BEGIN:VCALENDAR
VERSION:2.0
PRODID:-//PAI - ECPv6.15.11//NONSGML v1.0//EN
CALSCALE:GREGORIAN
METHOD:PUBLISH
X-ORIGINAL-URL:https://pai.com.es
X-WR-CALDESC:Eventos para PAI
REFRESH-INTERVAL;VALUE=DURATION:PT1H
X-Robots-Tag:noindex
X-PUBLISHED-TTL:PT1H
BEGIN:VTIMEZONE
TZID:Europe/Madrid
BEGIN:DAYLIGHT
TZOFFSETFROM:+0100
TZOFFSETTO:+0200
TZNAME:CEST
DTSTART:20220327T010000
END:DAYLIGHT
BEGIN:STANDARD
TZOFFSETFROM:+0200
TZOFFSETTO:+0100
TZNAME:CET
DTSTART:20221030T010000
END:STANDARD
BEGIN:DAYLIGHT
TZOFFSETFROM:+0100
TZOFFSETTO:+0200
TZNAME:CEST
DTSTART:20230326T010000
END:DAYLIGHT
BEGIN:STANDARD
TZOFFSETFROM:+0200
TZOFFSETTO:+0100
TZNAME:CET
DTSTART:20231029T010000
END:STANDARD
BEGIN:DAYLIGHT
TZOFFSETFROM:+0100
TZOFFSETTO:+0200
TZNAME:CEST
DTSTART:20240331T010000
END:DAYLIGHT
BEGIN:STANDARD
TZOFFSETFROM:+0200
TZOFFSETTO:+0100
TZNAME:CET
DTSTART:20241027T010000
END:STANDARD
END:VTIMEZONE
BEGIN:VEVENT
DTSTART;VALUE=DATE:20231227
DTEND;VALUE=DATE:20231230
DTSTAMP:20260422T025451
CREATED:20231110T080020Z
LAST-MODIFIED:20231214T202644Z
UID:22519-1703635200-1703894399@pai.com.es
SUMMARY:Espacio Bebé • HUESCA
DESCRIPTION:
URL:https://pai.com.es/agenda-pai/copia-de-sala-cucu-ee-waslala-zaragoza/
CATEGORIES:Espacio Bebé,Pai
ATTACH;FMTTYPE=image/jpeg:https://pai.com.es/wp-content/uploads/2017/01/EspacioBebe-foto-2.jpg
END:VEVENT
BEGIN:VEVENT
DTSTART;TZID=Europe/Madrid:20231227T173000
DTEND;TZID=Europe/Madrid:20231227T190000
DTSTAMP:20260422T025451
CREATED:20231031T230006Z
LAST-MODIFIED:20231214T200326Z
UID:22367-1703698200-1703703600@pai.com.es
SUMMARY:Coro Cocó • EJEA DE LOS CABALLEROS\, Zaragoza
DESCRIPTION:
URL:https://pai.com.es/agenda-pai/coro-coco-ejea-de-los-caballeros-zaragoza/
CATEGORIES:Espectáculos - Sala,Pai
ATTACH;FMTTYPE=image/jpeg:https://pai.com.es/wp-content/uploads/2017/02/pai-espectaculos-sala-corococo-tb-1-e1745863821476.jpg
END:VEVENT
BEGIN:VEVENT
DTSTART;TZID=Europe/Madrid:20231227T173000
DTEND;TZID=Europe/Madrid:20231227T193000
DTSTAMP:20260422T025451
CREATED:20230630T220052Z
LAST-MODIFIED:20231214T202909Z
UID:22522-1703698200-1703705400@pai.com.es
SUMMARY:Taller de Bichos de cartón • VILLAMAYOR\, Zaragoza
DESCRIPTION:
URL:https://pai.com.es/agenda-pai/copia-de-taller-de-bichos-de-carton-ejea-de-los-caballeros-zaragoza/
CATEGORIES:Pai,Taller
ATTACH;FMTTYPE=image/jpeg:https://pai.com.es/wp-content/uploads/2017/04/talleres-pai-BichosDeCarton-fotos-3-e1744652133389.jpg
END:VEVENT
END:VCALENDAR