BEGIN:VCALENDAR
VERSION:2.0
PRODID:-//PAI - ECPv6.15.11//NONSGML v1.0//EN
CALSCALE:GREGORIAN
METHOD:PUBLISH
X-ORIGINAL-URL:https://pai.com.es
X-WR-CALDESC:Eventos para PAI
REFRESH-INTERVAL;VALUE=DURATION:PT1H
X-Robots-Tag:noindex
X-PUBLISHED-TTL:PT1H
BEGIN:VTIMEZONE
TZID:Europe/Madrid
BEGIN:DAYLIGHT
TZOFFSETFROM:+0100
TZOFFSETTO:+0200
TZNAME:CEST
DTSTART:20220327T010000
END:DAYLIGHT
BEGIN:STANDARD
TZOFFSETFROM:+0200
TZOFFSETTO:+0100
TZNAME:CET
DTSTART:20221030T010000
END:STANDARD
BEGIN:DAYLIGHT
TZOFFSETFROM:+0100
TZOFFSETTO:+0200
TZNAME:CEST
DTSTART:20230326T010000
END:DAYLIGHT
BEGIN:STANDARD
TZOFFSETFROM:+0200
TZOFFSETTO:+0100
TZNAME:CET
DTSTART:20231029T010000
END:STANDARD
BEGIN:DAYLIGHT
TZOFFSETFROM:+0100
TZOFFSETTO:+0200
TZNAME:CEST
DTSTART:20240331T010000
END:DAYLIGHT
BEGIN:STANDARD
TZOFFSETFROM:+0200
TZOFFSETTO:+0100
TZNAME:CET
DTSTART:20241027T010000
END:STANDARD
END:VTIMEZONE
BEGIN:VTIMEZONE
TZID:UTC
BEGIN:STANDARD
TZOFFSETFROM:+0000
TZOFFSETTO:+0000
TZNAME:UTC
DTSTART:20220101T000000
END:STANDARD
END:VTIMEZONE
BEGIN:VEVENT
DTSTART;VALUE=DATE:20231227
DTEND;VALUE=DATE:20231230
DTSTAMP:20260422T011606
CREATED:20231110T080020Z
LAST-MODIFIED:20231214T202644Z
UID:22519-1703635200-1703894399@pai.com.es
SUMMARY:Espacio Bebé • HUESCA
DESCRIPTION:
URL:https://pai.com.es/agenda-pai/copia-de-sala-cucu-ee-waslala-zaragoza/
CATEGORIES:Espacio Bebé,Pai
ATTACH;FMTTYPE=image/jpeg:https://pai.com.es/wp-content/uploads/2017/01/EspacioBebe-foto-2.jpg
END:VEVENT
BEGIN:VEVENT
DTSTART;VALUE=DATE:20231229
DTEND;VALUE=DATE:20231230
DTSTAMP:20260422T011606
CREATED:20231031T230054Z
LAST-MODIFIED:20231117T095223Z
UID:22420-1703808000-1703894399@pai.com.es
SUMMARY:Debajo un telón • CC DELICIAS\, Zaragoza
DESCRIPTION:
URL:https://pai.com.es/agenda-pai/debajo-un-telon-cc-delicias-zaragoza/
CATEGORIES:Espectáculos - Sala,Pai
ATTACH;FMTTYPE=image/jpeg:https://pai.com.es/wp-content/uploads/2017/03/Debajountelon-pai-foto-06.jpg
END:VEVENT
BEGIN:VEVENT
DTSTART;TZID=Europe/Madrid:20231229T200000
DTEND;TZID=Europe/Madrid:20231229T204500
DTSTAMP:20260422T011606
CREATED:20231031T230011Z
LAST-MODIFIED:20231229T074622Z
UID:22422-1703880000-1703882700@pai.com.es
SUMMARY:Un salto de gigante • CC DELICIAS\, Zaragoza
DESCRIPTION:
URL:https://pai.com.es/agenda-pai/un-salto-de-gigante-cc-delicias-zaragoza/
CATEGORIES:Espectáculos - Sala,Pai
ATTACH;FMTTYPE=image/jpeg:https://pai.com.es/wp-content/uploads/2017/04/pai-sl-inicio-UnSaltoDeGigante.jpg
END:VEVENT
END:VCALENDAR