BEGIN:VCALENDAR
VERSION:2.0
PRODID:-//PAI - ECPv6.15.11//NONSGML v1.0//EN
CALSCALE:GREGORIAN
METHOD:PUBLISH
X-ORIGINAL-URL:https://pai.com.es
X-WR-CALDESC:Eventos para PAI
REFRESH-INTERVAL;VALUE=DURATION:PT1H
X-Robots-Tag:noindex
X-PUBLISHED-TTL:PT1H
BEGIN:VTIMEZONE
TZID:Europe/Madrid
BEGIN:DAYLIGHT
TZOFFSETFROM:+0100
TZOFFSETTO:+0200
TZNAME:CEST
DTSTART:20230326T010000
END:DAYLIGHT
BEGIN:STANDARD
TZOFFSETFROM:+0200
TZOFFSETTO:+0100
TZNAME:CET
DTSTART:20231029T010000
END:STANDARD
BEGIN:DAYLIGHT
TZOFFSETFROM:+0100
TZOFFSETTO:+0200
TZNAME:CEST
DTSTART:20240331T010000
END:DAYLIGHT
BEGIN:STANDARD
TZOFFSETFROM:+0200
TZOFFSETTO:+0100
TZNAME:CET
DTSTART:20241027T010000
END:STANDARD
BEGIN:DAYLIGHT
TZOFFSETFROM:+0100
TZOFFSETTO:+0200
TZNAME:CEST
DTSTART:20250330T010000
END:DAYLIGHT
BEGIN:STANDARD
TZOFFSETFROM:+0200
TZOFFSETTO:+0100
TZNAME:CET
DTSTART:20251026T010000
END:STANDARD
END:VTIMEZONE
BEGIN:VEVENT
DTSTART;VALUE=DATE:20241021
DTEND;VALUE=DATE:20241028
DTSTAMP:20260422T011916
CREATED:20240829T112954Z
LAST-MODIFIED:20240829T112954Z
UID:23000-1729468800-1730073599@pai.com.es
SUMMARY:Artilogios (Lanzarote)
DESCRIPTION:
URL:https://pai.com.es/agenda-pai/artilogios-lanzarote/
ATTACH;FMTTYPE=image/jpeg:https://pai.com.es/wp-content/uploads/2018/05/Artilogios_9.jpg
END:VEVENT
BEGIN:VEVENT
DTSTART;TZID=Europe/Madrid:20241021T100000
DTEND;TZID=Europe/Madrid:20241021T123000
DTSTAMP:20260422T011916
CREATED:20241025T090432Z
LAST-MODIFIED:20241025T090542Z
UID:23130-1729504800-1729513800@pai.com.es
SUMMARY:Galacho Juslibol con escolares
DESCRIPTION:
URL:https://pai.com.es/agenda-pai/galacho-juslibol-con-escolares-2/
CATEGORIES:Medio Ambiente
ATTACH;FMTTYPE=image/jpeg:https://pai.com.es/wp-content/uploads/2.jpg
END:VEVENT
END:VCALENDAR