BEGIN:VCALENDAR
VERSION:2.0
PRODID:-//PAI - ECPv6.15.11//NONSGML v1.0//EN
CALSCALE:GREGORIAN
METHOD:PUBLISH
X-ORIGINAL-URL:https://pai.com.es
X-WR-CALDESC:Eventos para PAI
REFRESH-INTERVAL;VALUE=DURATION:PT1H
X-Robots-Tag:noindex
X-PUBLISHED-TTL:PT1H
BEGIN:VTIMEZONE
TZID:Europe/Madrid
BEGIN:DAYLIGHT
TZOFFSETFROM:+0100
TZOFFSETTO:+0200
TZNAME:CEST
DTSTART:20220327T010000
END:DAYLIGHT
BEGIN:STANDARD
TZOFFSETFROM:+0200
TZOFFSETTO:+0100
TZNAME:CET
DTSTART:20221030T010000
END:STANDARD
BEGIN:DAYLIGHT
TZOFFSETFROM:+0100
TZOFFSETTO:+0200
TZNAME:CEST
DTSTART:20230326T010000
END:DAYLIGHT
BEGIN:STANDARD
TZOFFSETFROM:+0200
TZOFFSETTO:+0100
TZNAME:CET
DTSTART:20231029T010000
END:STANDARD
BEGIN:DAYLIGHT
TZOFFSETFROM:+0100
TZOFFSETTO:+0200
TZNAME:CEST
DTSTART:20240331T010000
END:DAYLIGHT
BEGIN:STANDARD
TZOFFSETFROM:+0200
TZOFFSETTO:+0100
TZNAME:CET
DTSTART:20241027T010000
END:STANDARD
END:VTIMEZONE
BEGIN:VEVENT
DTSTART;VALUE=DATE:20231104
DTEND;VALUE=DATE:20231105
DTSTAMP:20260425T174451
CREATED:20231130T230011Z
LAST-MODIFIED:20231110T085949Z
UID:22424-1699056000-1699142399@pai.com.es
SUMMARY:Un salto de gigante • SARRIGUREN\, Navarra
DESCRIPTION:
URL:https://pai.com.es/agenda-pai/un-salto-de-gigante-sarriguren-navarra/
CATEGORIES:Espectáculos - Sala,Pai
ATTACH;FMTTYPE=image/jpeg:https://pai.com.es/wp-content/uploads/2017/04/pai-sl-inicio-UnSaltoDeGigante.jpg
END:VEVENT
BEGIN:VEVENT
DTSTART;VALUE=DATE:20231105
DTEND;VALUE=DATE:20231106
DTSTAMP:20260425T174451
CREATED:20231031T230047Z
LAST-MODIFIED:20231110T075807Z
UID:22348-1699142400-1699228799@pai.com.es
SUMMARY:Garbeo cósmico • SARRIGUREN\, Navarra
DESCRIPTION:
URL:https://pai.com.es/agenda-pai/garbeo-cosmico-sarriguren-navarra/
CATEGORIES:Espectáculos - Sala,Pai,Taller
ATTACH;FMTTYPE=image/jpeg:https://pai.com.es/wp-content/uploads/2019/01/GarbeoCosmico1.jpg
END:VEVENT
BEGIN:VEVENT
DTSTART;VALUE=DATE:20231113
DTEND;VALUE=DATE:20231114
DTSTAMP:20260425T174451
CREATED:20231031T230010Z
LAST-MODIFIED:20231110T080215Z
UID:22353-1699833600-1699919999@pai.com.es
SUMMARY:Artilogios • BIBLIOTECA MANUEL ALVAR\, Zaragoza
DESCRIPTION:
URL:https://pai.com.es/agenda-pai/artilogios-biblioteca-manuel-alvar-zaragoza/
CATEGORIES:Espectáculos - Sala,Pai
ATTACH;FMTTYPE=image/jpeg:https://pai.com.es/wp-content/uploads/2019/04/Artilogios_destacada.jpg
END:VEVENT
BEGIN:VEVENT
DTSTART;VALUE=DATE:20231114
DTEND;VALUE=DATE:20231115
DTSTAMP:20260425T174451
CREATED:20231031T230010Z
LAST-MODIFIED:20231110T080349Z
UID:22355-1699920000-1700006399@pai.com.es
SUMMARY:Artilogios • BIBLIOTECA MARÍA MOLINER\, Zaragoza
DESCRIPTION:
URL:https://pai.com.es/agenda-pai/artilogios-biblioteca-maria-moliner-zaragoza/
CATEGORIES:Espectáculos - Sala,Pai
ATTACH;FMTTYPE=image/jpeg:https://pai.com.es/wp-content/uploads/2019/04/Artilogios_destacada.jpg
END:VEVENT
BEGIN:VEVENT
DTSTART;VALUE=DATE:20231117
DTEND;VALUE=DATE:20231118
DTSTAMP:20260425T174451
CREATED:20231031T230010Z
LAST-MODIFIED:20231110T080938Z
UID:22360-1700179200-1700265599@pai.com.es
SUMMARY:Artilogios • VALENCIA\, Valencia
DESCRIPTION:
URL:https://pai.com.es/agenda-pai/artilogios-valencia-valencia/
CATEGORIES:Espectáculos - Sala,Pai
ATTACH;FMTTYPE=image/jpeg:https://pai.com.es/wp-content/uploads/2019/04/Artilogios_destacada.jpg
END:VEVENT
BEGIN:VEVENT
DTSTART;VALUE=DATE:20231119
DTEND;VALUE=DATE:20231120
DTSTAMP:20260425T174451
CREATED:20231031T230006Z
LAST-MODIFIED:20231110T081350Z
UID:22365-1700352000-1700438399@pai.com.es
SUMMARY:Coro Cocó • ETOPIA\, Zaragoza
DESCRIPTION:
URL:https://pai.com.es/agenda-pai/coro-coco-etopia-zaragoza/
CATEGORIES:Espectáculos - Sala,Pai
ATTACH;FMTTYPE=image/jpeg:https://pai.com.es/wp-content/uploads/2017/02/pai-espectaculos-sala-corococo-tb-1-e1745863821476.jpg
END:VEVENT
BEGIN:VEVENT
DTSTART;VALUE=DATE:20231124
DTEND;VALUE=DATE:20231125
DTSTAMP:20260425T174451
CREATED:20231031T230010Z
LAST-MODIFIED:20231117T094828Z
UID:22437-1700784000-1700870399@pai.com.es
SUMMARY:Artilogios • GUADALAJARA\, Castilla la Mancha
DESCRIPTION:
URL:https://pai.com.es/agenda-pai/artilogios-guadalajara-castilla-la-mancha/
CATEGORIES:Espectáculos - Sala,Pai
ATTACH;FMTTYPE=image/jpeg:https://pai.com.es/wp-content/uploads/2019/04/Artilogios_destacada.jpg
END:VEVENT
BEGIN:VEVENT
DTSTART;VALUE=DATE:20231125
DTEND;VALUE=DATE:20231126
DTSTAMP:20260425T174451
CREATED:20231031T230054Z
LAST-MODIFIED:20231117T095021Z
UID:22439-1700870400-1700956799@pai.com.es
SUMMARY:Debajo un telón • CC CASABLANCA\, Zaragoza
DESCRIPTION:
URL:https://pai.com.es/agenda-pai/debajo-un-telon-cc-casablanca-zaragoza/
CATEGORIES:Espectáculos - Sala,Pai
ATTACH;FMTTYPE=image/jpeg:https://pai.com.es/wp-content/uploads/2017/03/Debajountelon-pai-foto-06.jpg
END:VEVENT
END:VCALENDAR