BEGIN:VCALENDAR
VERSION:2.0
PRODID:-//PAI - ECPv6.15.11//NONSGML v1.0//EN
CALSCALE:GREGORIAN
METHOD:PUBLISH
X-WR-CALNAME:PAI
X-ORIGINAL-URL:https://pai.com.es
X-WR-CALDESC:Eventos para PAI
REFRESH-INTERVAL;VALUE=DURATION:PT1H
X-Robots-Tag:noindex
X-PUBLISHED-TTL:PT1H
BEGIN:VTIMEZONE
TZID:Europe/Madrid
BEGIN:DAYLIGHT
TZOFFSETFROM:+0100
TZOFFSETTO:+0200
TZNAME:CEST
DTSTART:20240331T010000
END:DAYLIGHT
BEGIN:STANDARD
TZOFFSETFROM:+0200
TZOFFSETTO:+0100
TZNAME:CET
DTSTART:20241027T010000
END:STANDARD
BEGIN:DAYLIGHT
TZOFFSETFROM:+0100
TZOFFSETTO:+0200
TZNAME:CEST
DTSTART:20250330T010000
END:DAYLIGHT
BEGIN:STANDARD
TZOFFSETFROM:+0200
TZOFFSETTO:+0100
TZNAME:CET
DTSTART:20251026T010000
END:STANDARD
BEGIN:DAYLIGHT
TZOFFSETFROM:+0100
TZOFFSETTO:+0200
TZNAME:CEST
DTSTART:20260329T010000
END:DAYLIGHT
BEGIN:STANDARD
TZOFFSETFROM:+0200
TZOFFSETTO:+0100
TZNAME:CET
DTSTART:20261025T010000
END:STANDARD
END:VTIMEZONE
BEGIN:VEVENT
DTSTART;TZID=Europe/Madrid:20250208T120000
DTEND;TZID=Europe/Madrid:20250208T133000
DTSTAMP:20260422T112610
CREATED:20241031T121415Z
LAST-MODIFIED:20241202T065341Z
UID:23331-1739016000-1739021400@pai.com.es
SUMMARY:Linterna Mágica_ Sesión 5_ Estación Norte
DESCRIPTION:
URL:https://pai.com.es/agenda-pai/linterna-magica_-sesion-5_-estacion-norte/
CATEGORIES:La linterna mágica
ATTACH;FMTTYPE=image/jpeg:https://pai.com.es/wp-content/uploads/LM-POST-QUE-ES.jpg
END:VEVENT
BEGIN:VEVENT
DTSTART;TZID=Europe/Madrid:20250209T120000
DTEND;TZID=Europe/Madrid:20250209T133000
DTSTAMP:20260422T112610
CREATED:20241031T121415Z
LAST-MODIFIED:20241202T065454Z
UID:23333-1739102400-1739107800@pai.com.es
SUMMARY:Linterna Mágica_ Sesión 5_ Teodoro Sánchez Punter
DESCRIPTION:
URL:https://pai.com.es/agenda-pai/linterna-magica_-sesion-5_-teodoro-sanchez-punter/
CATEGORIES:La linterna mágica
ATTACH;FMTTYPE=image/jpeg:https://pai.com.es/wp-content/uploads/LM-POST-QUE-ES.jpg
END:VEVENT
BEGIN:VEVENT
DTSTART;VALUE=DATE:20250216
DTEND;VALUE=DATE:20250217
DTSTAMP:20260422T112610
CREATED:20241031T122912Z
LAST-MODIFIED:20250120T065037Z
UID:23335-1739664000-1739750399@pai.com.es
SUMMARY:La Pequeña Linterna_CC Río Ebro
DESCRIPTION:
URL:https://pai.com.es/agenda-pai/la-pequena-linterna_cc-rio-ebro/
CATEGORIES:La linterna mágica
ATTACH;FMTTYPE=image/jpeg:https://pai.com.es/wp-content/uploads/Captura-de-pantalla-2024-12-02-075709.jpg
END:VEVENT
END:VCALENDAR