BEGIN:VCALENDAR
VERSION:2.0
PRODID:-//PAI - ECPv6.15.11//NONSGML v1.0//EN
CALSCALE:GREGORIAN
METHOD:PUBLISH
X-ORIGINAL-URL:https://pai.com.es
X-WR-CALDESC:Eventos para PAI
REFRESH-INTERVAL;VALUE=DURATION:PT1H
X-Robots-Tag:noindex
X-PUBLISHED-TTL:PT1H
BEGIN:VTIMEZONE
TZID:UTC
BEGIN:STANDARD
TZOFFSETFROM:+0000
TZOFFSETTO:+0000
TZNAME:UTC
DTSTART:20200101T000000
END:STANDARD
END:VTIMEZONE
BEGIN:VTIMEZONE
TZID:Europe/Madrid
BEGIN:DAYLIGHT
TZOFFSETFROM:+0100
TZOFFSETTO:+0200
TZNAME:CEST
DTSTART:20200329T010000
END:DAYLIGHT
BEGIN:STANDARD
TZOFFSETFROM:+0200
TZOFFSETTO:+0100
TZNAME:CET
DTSTART:20201025T010000
END:STANDARD
BEGIN:DAYLIGHT
TZOFFSETFROM:+0100
TZOFFSETTO:+0200
TZNAME:CEST
DTSTART:20210328T010000
END:DAYLIGHT
BEGIN:STANDARD
TZOFFSETFROM:+0200
TZOFFSETTO:+0100
TZNAME:CET
DTSTART:20211031T010000
END:STANDARD
BEGIN:DAYLIGHT
TZOFFSETFROM:+0100
TZOFFSETTO:+0200
TZNAME:CEST
DTSTART:20220327T010000
END:DAYLIGHT
BEGIN:STANDARD
TZOFFSETFROM:+0200
TZOFFSETTO:+0100
TZNAME:CET
DTSTART:20221030T010000
END:STANDARD
END:VTIMEZONE
BEGIN:VEVENT
DTSTART;VALUE=DATE:20210602
DTEND;VALUE=DATE:20210603
DTSTAMP:20260425T020249
CREATED:20210525T090012Z
LAST-MODIFIED:20210525T091700Z
UID:16931-1622592000-1622678399@pai.com.es
SUMMARY:Taller Juego y Salud\, LLEIDA\, Lleida
DESCRIPTION:
URL:https://pai.com.es/agenda-pai/taller-juego-y-salud-lleida-lleida/
CATEGORIES:Pai,Taller
ATTACH;FMTTYPE=image/jpeg:https://pai.com.es/wp-content/uploads/2017/04/talleres-pai-Creatividad-fotos-3.jpg
END:VEVENT
BEGIN:VEVENT
DTSTART;VALUE=DATE:20210602
DTEND;VALUE=DATE:20210603
DTSTAMP:20260425T020249
CREATED:20210525T090101Z
LAST-MODIFIED:20210525T090349Z
UID:20288-1622592000-1622678399@pai.com.es
SUMMARY:Recorridos Guiados • GALACHO DE JUSLIBOL\, Zaragoza
DESCRIPTION:
URL:https://pai.com.es/agenda-pai/recorridos-guiados-galacho-de-juslibol-zaragoza-7/
CATEGORIES:Medio Ambiente,Pai
ATTACH;FMTTYPE=image/jpeg:https://pai.com.es/wp-content/uploads/2015/04/pai-noticias-img-01.jpg
END:VEVENT
BEGIN:VEVENT
DTSTART;VALUE=DATE:20210604
DTEND;VALUE=DATE:20210605
DTSTAMP:20260425T020249
CREATED:20210525T090101Z
LAST-MODIFIED:20210525T090439Z
UID:20287-1622764800-1622851199@pai.com.es
SUMMARY:Recorridos Guiados • GALACHO DE JUSLIBOL\, Zaragoza
DESCRIPTION:
URL:https://pai.com.es/agenda-pai/recorridos-guiados-galacho-de-juslibol-zaragoza-6/
CATEGORIES:Medio Ambiente,Pai
ATTACH;FMTTYPE=image/jpeg:https://pai.com.es/wp-content/uploads/2015/04/pai-noticias-img-01.jpg
END:VEVENT
BEGIN:VEVENT
DTSTART;VALUE=DATE:20210605
DTEND;VALUE=DATE:20210606
DTSTAMP:20260425T020249
CREATED:20210201T110035Z
LAST-MODIFIED:20210525T091806Z
UID:18460-1622851200-1622937599@pai.com.es
SUMMARY:La Linterna Mágica • CENTRO DE HISTORIAS\, Zaragoza
DESCRIPTION:
URL:https://pai.com.es/agenda-pai/la-linterna-magica-ch-zaragoza/
CATEGORIES:La linterna mágica,Pai
ATTACH;FMTTYPE=image/jpeg:https://pai.com.es/wp-content/uploads/2017/02/pai-linterna-magica-bg-3-1.jpg
END:VEVENT
BEGIN:VEVENT
DTSTART;VALUE=DATE:20210605
DTEND;VALUE=DATE:20210607
DTSTAMP:20260425T020249
CREATED:20170425T055243Z
LAST-MODIFIED:20210525T092333Z
UID:15913-1622851200-1623023999@pai.com.es
SUMMARY:Taller de pintura • CC DISTRITO SUR\, Zaragoza
DESCRIPTION:
URL:https://pai.com.es/agenda-pai/taller-de-pintura-villanueva-de-gallego/
CATEGORIES:Pai
ATTACH;FMTTYPE=image/jpeg:https://pai.com.es/wp-content/uploads/2017/04/espacios-pai-QuePintoYo-fotos-9.jpg
END:VEVENT
BEGIN:VEVENT
DTSTART;VALUE=DATE:20210606
DTEND;VALUE=DATE:20210607
DTSTAMP:20260425T020249
CREATED:20210525T091000Z
LAST-MODIFIED:20210525T092209Z
UID:20296-1622937600-1623023999@pai.com.es
SUMMARY:Cosquillas: Artilogios • CASPE\, Zaragoza
DESCRIPTION:
URL:https://pai.com.es/agenda-pai/artilogios-matadero-huesca/
CATEGORIES:Espectáculos - Sala,Pai
ATTACH;FMTTYPE=image/jpeg:https://pai.com.es/wp-content/uploads/2019/04/Artilogios_1.jpg
END:VEVENT
BEGIN:VEVENT
DTSTART;VALUE=DATE:20210607
DTEND;VALUE=DATE:20210608
DTSTAMP:20260425T020249
CREATED:20210525T090101Z
LAST-MODIFIED:20210525T090504Z
UID:20286-1623024000-1623110399@pai.com.es
SUMMARY:Recorridos Guiados • GALACHO DE JUSLIBOL\, Zaragoza
DESCRIPTION:
URL:https://pai.com.es/agenda-pai/recorridos-guiados-galacho-de-juslibol-zaragoza-5/
CATEGORIES:Medio Ambiente,Pai
ATTACH;FMTTYPE=image/jpeg:https://pai.com.es/wp-content/uploads/2015/04/pai-noticias-img-01.jpg
END:VEVENT
BEGIN:VEVENT
DTSTART;VALUE=DATE:20210609
DTEND;VALUE=DATE:20210612
DTSTAMP:20260425T020249
CREATED:20210525T090101Z
LAST-MODIFIED:20210525T090637Z
UID:20285-1623196800-1623455999@pai.com.es
SUMMARY:Recorridos Guiados • GALACHO DE JUSLIBOL\, Zaragoza
DESCRIPTION:
URL:https://pai.com.es/agenda-pai/recorridos-guiados-galacho-de-juslibol-zaragoza-4/
CATEGORIES:Medio Ambiente,Pai
ATTACH;FMTTYPE=image/jpeg:https://pai.com.es/wp-content/uploads/2015/04/pai-noticias-img-01.jpg
END:VEVENT
BEGIN:VEVENT
DTSTART;VALUE=DATE:20210611
DTEND;VALUE=DATE:20210612
DTSTAMP:20260425T020249
CREATED:20210525T091135Z
LAST-MODIFIED:20210525T091135Z
UID:20801-1623369600-1623455999@pai.com.es
SUMMARY:Llámame Mary • SOBRADIEL\, Zaragoza
DESCRIPTION:
URL:https://pai.com.es/agenda-pai/llamame-mary-sobradiel-zaragoza/
CATEGORIES:Espectáculos - Sala,Pai
ATTACH;FMTTYPE=image/jpeg:https://pai.com.es/wp-content/uploads/2021/04/llámame-Mary_-18-scaled.jpg
END:VEVENT
BEGIN:VEVENT
DTSTART;VALUE=DATE:20210612
DTEND;VALUE=DATE:20210613
DTSTAMP:20260425T020249
CREATED:20210201T110035Z
LAST-MODIFIED:20210525T091930Z
UID:20045-1623456000-1623542399@pai.com.es
SUMMARY:La Linterna Mágica • CC RÍO EBRO y CC ESTACIÓN DEL NORTE\, Zaragoza
DESCRIPTION:
URL:https://pai.com.es/agenda-pai/la-linterna-magica-re-en-zaragoza-2/
CATEGORIES:La linterna mágica,Pai
ATTACH;FMTTYPE=image/jpeg:https://pai.com.es/wp-content/uploads/2017/02/pai-linterna-magica-bg-3-1.jpg
END:VEVENT
BEGIN:VEVENT
DTSTART;VALUE=DATE:20210612
DTEND;VALUE=DATE:20210614
DTSTAMP:20260425T020249
CREATED:20191205T124330Z
LAST-MODIFIED:20191205T124330Z
UID:20313-1623456000-1623628799@pai.com.es
SUMMARY:Taller de bichos de cartón • CC DISTRITO SUR\, Zaragoza
DESCRIPTION:
URL:https://pai.com.es/agenda-pai/taller-de-bichos-de-carton-cc-distrito-sur-zaragoza/
CATEGORIES:Pai,Taller
ATTACH;FMTTYPE=image/jpeg:https://pai.com.es/wp-content/uploads/2017/04/talleres-pai-BichosDeCarton-fotos-4.jpg
END:VEVENT
BEGIN:VEVENT
DTSTART;VALUE=DATE:20210618
DTEND;VALUE=DATE:20210619
DTSTAMP:20260425T020249
CREATED:20210525T090101Z
LAST-MODIFIED:20210525T105552Z
UID:20281-1623974400-1624060799@pai.com.es
SUMMARY:Cuentos y más • CEIP REINO DE ARAGÓN\, La Puebla de Alfindén\, Zaragoza
DESCRIPTION:
URL:https://pai.com.es/agenda-pai/cuentos-y-mas-ceip-reino-de-aragon/
CATEGORIES:Espectáculos - Sala,Pai
ATTACH;FMTTYPE=image/jpeg:https://pai.com.es/wp-content/uploads/2017/02/pai-espectaculos-sala-cuentos-tb-1.jpg
END:VEVENT
BEGIN:VEVENT
DTSTART;VALUE=DATE:20210619
DTEND;VALUE=DATE:20210621
DTSTAMP:20260425T020249
CREATED:20191205T124330Z
LAST-MODIFIED:20191205T124330Z
UID:20342-1624060800-1624233599@pai.com.es
SUMMARY:Taller de barro • CC DISTRITO SUR\, Zaragoza
DESCRIPTION:
URL:https://pai.com.es/agenda-pai/taller-de-barro-cc-distrito-sur-zaragoza/
CATEGORIES:Pai,Taller
ATTACH;FMTTYPE=image/jpeg:https://pai.com.es/wp-content/uploads/2017/04/talleres-pai-VeneciaEnArcilla-fotos-4.jpg
END:VEVENT
BEGIN:VEVENT
DTSTART;VALUE=DATE:20210619
DTEND;VALUE=DATE:20210621
DTSTAMP:20260425T020249
CREATED:20201231T110006Z
LAST-MODIFIED:20201231T110006Z
UID:20876-1624060800-1624233599@pai.com.es
SUMMARY:Coro Cocó • CC DISTRITO SUR\, Zaragoza
DESCRIPTION:
URL:https://pai.com.es/agenda-pai/coro-coco-cc-distrito-sur-zaragoza/
CATEGORIES:Espectáculos - Sala,Pai
ATTACH;FMTTYPE=image/jpeg:https://pai.com.es/wp-content/uploads/2017/02/pai-espectaculos-sala-corococo-tb-1-e1745863821476.jpg
END:VEVENT
BEGIN:VEVENT
DTSTART;VALUE=DATE:20210622
DTEND;VALUE=DATE:20210623
DTSTAMP:20260425T020249
CREATED:20210525T091000Z
LAST-MODIFIED:20210525T091000Z
UID:20354-1624320000-1624406399@pai.com.es
SUMMARY:Artilogios • ZUERA\, Zaragoza
DESCRIPTION:
URL:https://pai.com.es/agenda-pai/artilogios-zuera-zaragoza/
CATEGORIES:Espectáculos - Sala,Pai
ATTACH;FMTTYPE=image/jpeg:https://pai.com.es/wp-content/uploads/2019/04/Artilogios_1.jpg
END:VEVENT
BEGIN:VEVENT
DTSTART;VALUE=DATE:20210625
DTEND;VALUE=DATE:20210627
DTSTAMP:20260425T020249
CREATED:20210525T105843Z
LAST-MODIFIED:20210525T105843Z
UID:20338-1624579200-1624751999@pai.com.es
SUMMARY:Un salto de gigante/Garbeo Cósmico • TENERIFE
DESCRIPTION:
URL:https://pai.com.es/agenda-pai/un-salto-de-gigante-garbeo-cosmico-tenerife-2/
CATEGORIES:Espectáculos - Sala,Pai
ATTACH;FMTTYPE=image/jpeg:https://pai.com.es/wp-content/uploads/2017/04/pai-sl-inicio-UnSaltoDeGigante.jpg
END:VEVENT
BEGIN:VEVENT
DTSTART;VALUE=DATE:20210626
DTEND;VALUE=DATE:20210628
DTSTAMP:20260425T020249
CREATED:20190709T070308Z
LAST-MODIFIED:20190709T070308Z
UID:20860-1624665600-1624838399@pai.com.es
SUMMARY:Restaurante “Planeta Tierra” • CC DISTRITO SUR\, Zaragoza
DESCRIPTION:
URL:https://pai.com.es/agenda-pai/restaurante-planeta-tierra-cc-distrito-sur-zaragoza/
CATEGORIES:Medio Ambiente,Pai
ATTACH;FMTTYPE=image/png:https://pai.com.es/wp-content/uploads/2019/01/RPT.png
END:VEVENT
END:VCALENDAR