BEGIN:VCALENDAR
VERSION:2.0
PRODID:-//PAI - ECPv6.15.11//NONSGML v1.0//EN
CALSCALE:GREGORIAN
METHOD:PUBLISH
X-ORIGINAL-URL:https://pai.com.es
X-WR-CALDESC:Eventos para PAI
REFRESH-INTERVAL;VALUE=DURATION:PT1H
X-Robots-Tag:noindex
X-PUBLISHED-TTL:PT1H
BEGIN:VTIMEZONE
TZID:Europe/Madrid
BEGIN:DAYLIGHT
TZOFFSETFROM:+0100
TZOFFSETTO:+0200
TZNAME:CEST
DTSTART:20200329T010000
END:DAYLIGHT
BEGIN:STANDARD
TZOFFSETFROM:+0200
TZOFFSETTO:+0100
TZNAME:CET
DTSTART:20201025T010000
END:STANDARD
BEGIN:DAYLIGHT
TZOFFSETFROM:+0100
TZOFFSETTO:+0200
TZNAME:CEST
DTSTART:20210328T010000
END:DAYLIGHT
BEGIN:STANDARD
TZOFFSETFROM:+0200
TZOFFSETTO:+0100
TZNAME:CET
DTSTART:20211031T010000
END:STANDARD
BEGIN:DAYLIGHT
TZOFFSETFROM:+0100
TZOFFSETTO:+0200
TZNAME:CEST
DTSTART:20220327T010000
END:DAYLIGHT
BEGIN:STANDARD
TZOFFSETFROM:+0200
TZOFFSETTO:+0100
TZNAME:CET
DTSTART:20221030T010000
END:STANDARD
END:VTIMEZONE
BEGIN:VTIMEZONE
TZID:UTC
BEGIN:STANDARD
TZOFFSETFROM:+0000
TZOFFSETTO:+0000
TZNAME:UTC
DTSTART:20200101T000000
END:STANDARD
END:VTIMEZONE
BEGIN:VEVENT
DTSTART;VALUE=DATE:20211101
DTEND;VALUE=DATE:20211102
DTSTAMP:20260424T173902
CREATED:20210701T100000Z
LAST-MODIFIED:20211027T163208Z
UID:20753-1635724800-1635811199@pai.com.es
SUMMARY:Artilogios Narración • EJEA DE LOS CABALLEROS\, Zaragoza
DESCRIPTION:
URL:https://pai.com.es/agenda-pai/artilogios-villamalea-albacete-2/
CATEGORIES:Espectáculos - Sala,Pai
ATTACH;FMTTYPE=image/jpeg:https://pai.com.es/wp-content/uploads/2019/04/Artilogios_1.jpg
END:VEVENT
BEGIN:VEVENT
DTSTART;VALUE=DATE:20211102
DTEND;VALUE=DATE:20211115
DTSTAMP:20260424T173902
CREATED:20211027T153332Z
LAST-MODIFIED:20211027T154813Z
UID:20722-1635811200-1636934399@pai.com.es
SUMMARY:Festival CUCÚ • Centro Cívico VALDEFIERRO\, Zaragoza
DESCRIPTION:
URL:https://pai.com.es/agenda-pai/festival-cucu-centro-civico-valdefierro-zaragoza/
CATEGORIES:Espectáculos - Sala,Pai,Taller
ATTACH;FMTTYPE=image/png:https://pai.com.es/wp-content/uploads/SelloCucu21-e1748597188385.png
END:VEVENT
BEGIN:VEVENT
DTSTART;VALUE=DATE:20211105
DTEND;VALUE=DATE:20211108
DTSTAMP:20260424T173902
CREATED:20211027T152748Z
LAST-MODIFIED:20211027T153058Z
UID:20718-1636070400-1636329599@pai.com.es
SUMMARY:Festival AVIVAVOZ • Centro Cívico Delicias\, Zaragoza
DESCRIPTION:
URL:https://pai.com.es/agenda-pai/festival-avivavoz-zaragoza/
CATEGORIES:Espectáculos - Sala,Pai
ATTACH;FMTTYPE=image/png:https://pai.com.es/wp-content/uploads/AVIVAVOZ.png
END:VEVENT
BEGIN:VEVENT
DTSTART;VALUE=DATE:20211106
DTEND;VALUE=DATE:20211107
DTSTAMP:20260424T173902
CREATED:20210201T110035Z
LAST-MODIFIED:20211027T154128Z
UID:20729-1636156800-1636243199@pai.com.es
SUMMARY:La Linterna Mágica • CC T. SÁNCHEZ PUNTER\, Zaragoza
DESCRIPTION:
URL:https://pai.com.es/agenda-pai/la-linterna-magica-cc-t-sanchez-punter-zaragoza/
CATEGORIES:La linterna mágica,Pai
ATTACH;FMTTYPE=image/jpeg:https://pai.com.es/wp-content/uploads/2017/02/pai-linterna-magica-bg-3-1.jpg
END:VEVENT
BEGIN:VEVENT
DTSTART;VALUE=DATE:20211111
DTEND;VALUE=DATE:20211112
DTSTAMP:20260424T173902
CREATED:20210701T100001Z
LAST-MODIFIED:20210701T100001Z
UID:20862-1636588800-1636675199@pai.com.es
SUMMARY:Cuentos Colorados • MONEGRILLO\, Zaragoza
DESCRIPTION:
URL:https://pai.com.es/agenda-pai/cuentos-colorados-monegrillo-zaragoza-2/
CATEGORIES:Espectáculos - Sala,Pai
ATTACH;FMTTYPE=image/jpeg:https://pai.com.es/wp-content/uploads/2017/03/cuentoscolorados-pai-cartel.jpg
END:VEVENT
BEGIN:VEVENT
DTSTART;VALUE=DATE:20211112
DTEND;VALUE=DATE:20211113
DTSTAMP:20260424T173902
CREATED:20210701T100000Z
LAST-MODIFIED:20211027T163319Z
UID:20755-1636675200-1636761599@pai.com.es
SUMMARY:Artilogios • SAN MATEO DE GÁLLEGO\, Zaragoza
DESCRIPTION:
URL:https://pai.com.es/agenda-pai/artilogios-san-mateo-de-gallego-zaragoza/
CATEGORIES:Espectáculos - Sala,Pai
ATTACH;FMTTYPE=image/jpeg:https://pai.com.es/wp-content/uploads/2019/04/Artilogios_1.jpg
END:VEVENT
BEGIN:VEVENT
DTSTART;VALUE=DATE:20211116
DTEND;VALUE=DATE:20211129
DTSTAMP:20260424T173902
CREATED:20211027T153332Z
LAST-MODIFIED:20211027T154845Z
UID:20737-1637020800-1638143999@pai.com.es
SUMMARY:Festival CUCÚ • La Casa de ARCOSUR\, Zaragoza
DESCRIPTION:
URL:https://pai.com.es/agenda-pai/festival-cucu-la-casa-de-arcosur-zaragoza/
CATEGORIES:Espectáculos - Sala,Pai,Taller
ATTACH;FMTTYPE=image/png:https://pai.com.es/wp-content/uploads/SelloCucu21-e1748597188385.png
END:VEVENT
BEGIN:VEVENT
DTSTART;VALUE=DATE:20211120
DTEND;VALUE=DATE:20211121
DTSTAMP:20260424T173902
CREATED:20210201T110035Z
LAST-MODIFIED:20211027T154223Z
UID:20731-1637366400-1637452799@pai.com.es
SUMMARY:La Linterna Mágica • CC RÍO EBRO y CC ESTACIÓN DEL NORTE\, Zaragoza
DESCRIPTION:
URL:https://pai.com.es/agenda-pai/la-linterna-magica-cc-rio-ebro-y-cc-estacion-del-norte-zaragoza-6/
CATEGORIES:La linterna mágica,Pai
ATTACH;FMTTYPE=image/jpeg:https://pai.com.es/wp-content/uploads/2017/02/pai-linterna-magica-bg-3-1.jpg
END:VEVENT
BEGIN:VEVENT
DTSTART;VALUE=DATE:20211130
DTEND;VALUE=DATE:20211209
DTSTAMP:20260424T173902
CREATED:20211027T153332Z
LAST-MODIFIED:20211027T162450Z
UID:20741-1638230400-1639007999@pai.com.es
SUMMARY:Festival CUCÚ • Centro Vecinal VALDESPARTERA\, Zaragoza
DESCRIPTION:
URL:https://pai.com.es/agenda-pai/festival-cucu-centro-vecinal-valdespartera-zaragoza/
CATEGORIES:Espectáculos - Sala,Pai,Taller
ATTACH;FMTTYPE=image/png:https://pai.com.es/wp-content/uploads/SelloCucu21-e1748597188385.png
END:VEVENT
END:VCALENDAR