BEGIN:VCALENDAR
VERSION:2.0
PRODID:-//PAI - ECPv6.15.11//NONSGML v1.0//EN
CALSCALE:GREGORIAN
METHOD:PUBLISH
X-WR-CALNAME:PAI
X-ORIGINAL-URL:https://pai.com.es
X-WR-CALDESC:Eventos para PAI
REFRESH-INTERVAL;VALUE=DURATION:PT1H
X-Robots-Tag:noindex
X-PUBLISHED-TTL:PT1H
BEGIN:VTIMEZONE
TZID:UTC
BEGIN:STANDARD
TZOFFSETFROM:+0000
TZOFFSETTO:+0000
TZNAME:UTC
DTSTART:20210101T000000
END:STANDARD
END:VTIMEZONE
BEGIN:VTIMEZONE
TZID:Europe/Madrid
BEGIN:DAYLIGHT
TZOFFSETFROM:+0100
TZOFFSETTO:+0200
TZNAME:CEST
DTSTART:20210328T010000
END:DAYLIGHT
BEGIN:STANDARD
TZOFFSETFROM:+0200
TZOFFSETTO:+0100
TZNAME:CET
DTSTART:20211031T010000
END:STANDARD
BEGIN:DAYLIGHT
TZOFFSETFROM:+0100
TZOFFSETTO:+0200
TZNAME:CEST
DTSTART:20220327T010000
END:DAYLIGHT
BEGIN:STANDARD
TZOFFSETFROM:+0200
TZOFFSETTO:+0100
TZNAME:CET
DTSTART:20221030T010000
END:STANDARD
BEGIN:DAYLIGHT
TZOFFSETFROM:+0100
TZOFFSETTO:+0200
TZNAME:CEST
DTSTART:20230326T010000
END:DAYLIGHT
BEGIN:STANDARD
TZOFFSETFROM:+0200
TZOFFSETTO:+0100
TZNAME:CET
DTSTART:20231029T010000
END:STANDARD
END:VTIMEZONE
BEGIN:VEVENT
DTSTART;VALUE=DATE:20220203
DTEND;VALUE=DATE:20220204
DTSTAMP:20260424T130053
CREATED:20190416T095128Z
LAST-MODIFIED:20220125T170549Z
UID:20958-1643846400-1643932799@pai.com.es
SUMMARY:Taller de plástica • CEIP JUAN DE LANUZA\, Zaragoza
DESCRIPTION:
URL:https://pai.com.es/agenda-pai/taller-de-plastica-ceip-juan-de-lanuza-zaragoza/
CATEGORIES:Pai,Taller
END:VEVENT
BEGIN:VEVENT
DTSTART;VALUE=DATE:20220203
DTEND;VALUE=DATE:20220204
DTSTAMP:20260424T130053
CREATED:20220124T200134Z
LAST-MODIFIED:20220125T165745Z
UID:20949-1643846400-1643932799@pai.com.es
SUMMARY:Taller de patios • MOVERA\, Zaragoza
DESCRIPTION:
URL:https://pai.com.es/agenda-pai/taller-de-patios-movera-zaragoza-2/
CATEGORIES:Pai,Taller
END:VEVENT
BEGIN:VEVENT
DTSTART;VALUE=DATE:20220207
DTEND;VALUE=DATE:20220211
DTSTAMP:20260424T130053
CREATED:20220101T110000Z
LAST-MODIFIED:20220124T200850Z
UID:20932-1644192000-1644537599@pai.com.es
SUMMARY:Artilogios • PAMPLONA\, Navarra
DESCRIPTION:
URL:https://pai.com.es/agenda-pai/artilogios-pamplona-navarra-2022/
CATEGORIES:Espectáculos - Sala,Pai
ATTACH;FMTTYPE=image/jpeg:https://pai.com.es/wp-content/uploads/2019/04/Artilogios_1.jpg
END:VEVENT
BEGIN:VEVENT
DTSTART;VALUE=DATE:20220212
DTEND;VALUE=DATE:20220213
DTSTAMP:20260424T130053
CREATED:20210201T110035Z
LAST-MODIFIED:20220125T170828Z
UID:20962-1644624000-1644710399@pai.com.es
SUMMARY:La Linterna Mágica • CC RÍO EBRO\, Zaragoza
DESCRIPTION:
URL:https://pai.com.es/agenda-pai/la-linterna-magica-cc-rio-ebro-zaragoza-2/
CATEGORIES:La linterna mágica,Pai
ATTACH;FMTTYPE=image/jpeg:https://pai.com.es/wp-content/uploads/2017/02/pai-linterna-magica-bg-3-1.jpg
END:VEVENT
BEGIN:VEVENT
DTSTART;VALUE=DATE:20220217
DTEND;VALUE=DATE:20220218
DTSTAMP:20260424T130053
CREATED:20190416T095128Z
LAST-MODIFIED:20220125T170726Z
UID:20960-1645056000-1645142399@pai.com.es
SUMMARY:Taller de plástica • CAMÓN AZNAR\, Zaragoza
DESCRIPTION:
URL:https://pai.com.es/agenda-pai/taller-de-plastica-camon-aznar-zaragoza/
CATEGORIES:Pai,Taller
END:VEVENT
BEGIN:VEVENT
DTSTART;VALUE=DATE:20220219
DTEND;VALUE=DATE:20220220
DTSTAMP:20260424T130053
CREATED:20210201T110035Z
LAST-MODIFIED:20220125T170931Z
UID:20964-1645228800-1645315199@pai.com.es
SUMMARY:La Linterna Mágica • CC T. SÁNCHEZ PUNTER y CC ESTACIÓN DEL NORTE\, Zaragoza
DESCRIPTION:
URL:https://pai.com.es/agenda-pai/la-linterna-magica-cc-t-sanchez-punter-y-cc-estacion-del-norte-zaragoza-2/
CATEGORIES:La linterna mágica,Pai
ATTACH;FMTTYPE=image/jpeg:https://pai.com.es/wp-content/uploads/2017/02/pai-linterna-magica-bg-3-1.jpg
END:VEVENT
BEGIN:VEVENT
DTSTART;VALUE=DATE:20220221
DTEND;VALUE=DATE:20220225
DTSTAMP:20260424T130053
CREATED:20220101T110000Z
LAST-MODIFIED:20220124T201050Z
UID:20934-1645401600-1645747199@pai.com.es
SUMMARY:Artilogios • PAMPLONA\, Navarra
DESCRIPTION:
URL:https://pai.com.es/agenda-pai/artilogios-pamplona-navarra-2022-2/
CATEGORIES:Espectáculos - Sala,Pai
ATTACH;FMTTYPE=image/jpeg:https://pai.com.es/wp-content/uploads/2019/04/Artilogios_1.jpg
END:VEVENT
BEGIN:VEVENT
DTSTART;VALUE=DATE:20220222
DTEND;VALUE=DATE:20220223
DTSTAMP:20260424T130053
CREATED:20220124T200134Z
LAST-MODIFIED:20220125T170059Z
UID:20951-1645488000-1645574399@pai.com.es
SUMMARY:Taller de patios • CEIP ANTONIO BELTRÁN\, Zaragoza
DESCRIPTION:
URL:https://pai.com.es/agenda-pai/taller-de-patios-ceip-antonio-beltran-zaragoza/
CATEGORIES:Pai,Taller
END:VEVENT
BEGIN:VEVENT
DTSTART;VALUE=DATE:20220225
DTEND;VALUE=DATE:20220226
DTSTAMP:20260424T130053
CREATED:20220124T200134Z
LAST-MODIFIED:20220125T165932Z
UID:20952-1645747200-1645833599@pai.com.es
SUMMARY:Taller de patios • PRADILLA DE EBRO\, Zaragoza
DESCRIPTION:
URL:https://pai.com.es/agenda-pai/taller-de-patios-pradilla-de-ebro-zaragoza/
CATEGORIES:Pai,Taller
END:VEVENT
BEGIN:VEVENT
DTSTART;VALUE=DATE:20220226
DTEND;VALUE=DATE:20220227
DTSTAMP:20260424T130053
CREATED:20180122T115145Z
LAST-MODIFIED:20220125T172107Z
UID:20976-1645833600-1645919999@pai.com.es
SUMMARY:Carnaval A Saco • JACA\, Huesca
DESCRIPTION:
URL:https://pai.com.es/agenda-pai/carnaval-a-saco-jaca-huesca/
CATEGORIES:Espectáculos - Calle,Pai
ATTACH;FMTTYPE=image/jpeg:https://pai.com.es/wp-content/uploads/2017/04/CarnavalASaco-pai-espectaculos-calle-sl-4.jpg
END:VEVENT
BEGIN:VEVENT
DTSTART;VALUE=DATE:20220227
DTEND;VALUE=DATE:20220228
DTSTAMP:20260424T130053
CREATED:20180122T115145Z
LAST-MODIFIED:20220209T105336Z
UID:21018-1645920000-1646006399@pai.com.es
SUMMARY:Carnaval A Saco • CALATORAO\, Zaragoza
DESCRIPTION:
URL:https://pai.com.es/agenda-pai/carnaval-a-saco-calatorao-zaragoza/
CATEGORIES:Espectáculos - Calle,Pai
ATTACH;FMTTYPE=image/jpeg:https://pai.com.es/wp-content/uploads/2017/04/CarnavalASaco-pai-espectaculos-calle-sl-4.jpg
END:VEVENT
BEGIN:VEVENT
DTSTART;VALUE=DATE:20220227
DTEND;VALUE=DATE:20220228
DTSTAMP:20260424T130053
CREATED:20201231T110006Z
LAST-MODIFIED:20220125T171557Z
UID:20970-1645920000-1646006399@pai.com.es
SUMMARY:Coro Cocó • HUARTE\, Navarra
DESCRIPTION:
URL:https://pai.com.es/agenda-pai/coro-coco-botorrita-zaragoza-2/
CATEGORIES:Espectáculos - Sala,Pai
ATTACH;FMTTYPE=image/jpeg:https://pai.com.es/wp-content/uploads/2017/02/pai-espectaculos-sala-corococo-tb-1-e1745863821476.jpg
END:VEVENT
BEGIN:VEVENT
DTSTART;VALUE=DATE:20220228
DTEND;VALUE=DATE:20220302
DTSTAMP:20260424T130053
CREATED:20220101T110000Z
LAST-MODIFIED:20220125T170401Z
UID:20955-1646006400-1646179199@pai.com.es
SUMMARY:Artilogios • IES FÉLIX DE AZARA\, Zaragoza
DESCRIPTION:
URL:https://pai.com.es/agenda-pai/artilogios-ies-felix-de-azara-zaragoza/
CATEGORIES:Espectáculos - Sala,Pai
ATTACH;FMTTYPE=image/jpeg:https://pai.com.es/wp-content/uploads/2019/04/Artilogios_1.jpg
END:VEVENT
END:VCALENDAR