BEGIN:VCALENDAR
VERSION:2.0
PRODID:-//PAI - ECPv6.15.11//NONSGML v1.0//EN
CALSCALE:GREGORIAN
METHOD:PUBLISH
X-WR-CALNAME:PAI
X-ORIGINAL-URL:https://pai.com.es
X-WR-CALDESC:Eventos para PAI
REFRESH-INTERVAL;VALUE=DURATION:PT1H
X-Robots-Tag:noindex
X-PUBLISHED-TTL:PT1H
BEGIN:VTIMEZONE
TZID:Europe/Madrid
BEGIN:DAYLIGHT
TZOFFSETFROM:+0100
TZOFFSETTO:+0200
TZNAME:CEST
DTSTART:20210328T010000
END:DAYLIGHT
BEGIN:STANDARD
TZOFFSETFROM:+0200
TZOFFSETTO:+0100
TZNAME:CET
DTSTART:20211031T010000
END:STANDARD
BEGIN:DAYLIGHT
TZOFFSETFROM:+0100
TZOFFSETTO:+0200
TZNAME:CEST
DTSTART:20220327T010000
END:DAYLIGHT
BEGIN:STANDARD
TZOFFSETFROM:+0200
TZOFFSETTO:+0100
TZNAME:CET
DTSTART:20221030T010000
END:STANDARD
BEGIN:DAYLIGHT
TZOFFSETFROM:+0100
TZOFFSETTO:+0200
TZNAME:CEST
DTSTART:20230326T010000
END:DAYLIGHT
BEGIN:STANDARD
TZOFFSETFROM:+0200
TZOFFSETTO:+0100
TZNAME:CET
DTSTART:20231029T010000
END:STANDARD
END:VTIMEZONE
BEGIN:VTIMEZONE
TZID:UTC
BEGIN:STANDARD
TZOFFSETFROM:+0000
TZOFFSETTO:+0000
TZNAME:UTC
DTSTART:20210101T000000
END:STANDARD
END:VTIMEZONE
BEGIN:VEVENT
DTSTART;VALUE=DATE:20220228
DTEND;VALUE=DATE:20220302
DTSTAMP:20260424T112903
CREATED:20220101T110000Z
LAST-MODIFIED:20220125T170401Z
UID:20955-1646006400-1646179199@pai.com.es
SUMMARY:Artilogios • IES FÉLIX DE AZARA\, Zaragoza
DESCRIPTION:
URL:https://pai.com.es/agenda-pai/artilogios-ies-felix-de-azara-zaragoza/
CATEGORIES:Espectáculos - Sala,Pai
ATTACH;FMTTYPE=image/jpeg:https://pai.com.es/wp-content/uploads/2019/04/Artilogios_1.jpg
END:VEVENT
BEGIN:VEVENT
DTSTART;VALUE=DATE:20220307
DTEND;VALUE=DATE:20220311
DTSTAMP:20260424T112903
CREATED:20220101T110000Z
LAST-MODIFIED:20220124T201149Z
UID:20936-1646611200-1646956799@pai.com.es
SUMMARY:Artilogios • PAMPLONA\, Navarra
DESCRIPTION:
URL:https://pai.com.es/agenda-pai/artilogios-pamplona-navarra-2022-3/
CATEGORIES:Espectáculos - Sala,Pai
ATTACH;FMTTYPE=image/jpeg:https://pai.com.es/wp-content/uploads/2019/04/Artilogios_1.jpg
END:VEVENT
BEGIN:VEVENT
DTSTART;VALUE=DATE:20220312
DTEND;VALUE=DATE:20220313
DTSTAMP:20260424T112903
CREATED:20210201T110035Z
LAST-MODIFIED:20220125T171326Z
UID:20966-1647043200-1647129599@pai.com.es
SUMMARY:La Linterna Mágica • CC T. SÁNCHEZ PUNTER\, Zaragoza
DESCRIPTION:
URL:https://pai.com.es/agenda-pai/la-linterna-magica-cc-t-sanchez-punter-zaragoza-3/
CATEGORIES:La linterna mágica,Pai
ATTACH;FMTTYPE=image/jpeg:https://pai.com.es/wp-content/uploads/2017/02/pai-linterna-magica-bg-3-1.jpg
END:VEVENT
BEGIN:VEVENT
DTSTART;VALUE=DATE:20220314
DTEND;VALUE=DATE:20220315
DTSTAMP:20260424T112903
CREATED:20210525T090101Z
LAST-MODIFIED:20220127T085722Z
UID:20978-1647216000-1647302399@pai.com.es
SUMMARY:Recorridos Guiados • GALACHO DE JUSLIBOL\, Zaragoza
DESCRIPTION:
URL:https://pai.com.es/agenda-pai/recorridos-guiados-galacho-de-juslibol-zaragoza/
CATEGORIES:Medio Ambiente,Pai
ATTACH;FMTTYPE=image/jpeg:https://pai.com.es/wp-content/uploads/2015/04/pai-noticias-img-01.jpg
END:VEVENT
BEGIN:VEVENT
DTSTART;VALUE=DATE:20220316
DTEND;VALUE=DATE:20220317
DTSTAMP:20260424T112903
CREATED:20210525T090101Z
LAST-MODIFIED:20220127T085820Z
UID:20980-1647388800-1647475199@pai.com.es
SUMMARY:Recorridos Guiados • GALACHO DE JUSLIBOL\, Zaragoza
DESCRIPTION:
URL:https://pai.com.es/agenda-pai/recorridos-guiados-galacho-de-juslibol-zaragoza-9/
CATEGORIES:Medio Ambiente,Pai
ATTACH;FMTTYPE=image/jpeg:https://pai.com.es/wp-content/uploads/2015/04/pai-noticias-img-01.jpg
END:VEVENT
BEGIN:VEVENT
DTSTART;VALUE=DATE:20220319
DTEND;VALUE=DATE:20220320
DTSTAMP:20260424T112903
CREATED:20210201T110035Z
LAST-MODIFIED:20220125T171433Z
UID:20968-1647648000-1647734399@pai.com.es
SUMMARY:La Linterna Mágica • CC RÍO EBRO y CC ESTACIÓN DEL NORTE\, Zaragoza
DESCRIPTION:
URL:https://pai.com.es/agenda-pai/la-linterna-magica-cc-rio-ebro-y-cc-estacion-del-norte-zaragoza-8/
CATEGORIES:La linterna mágica,Pai
ATTACH;FMTTYPE=image/jpeg:https://pai.com.es/wp-content/uploads/2017/02/pai-linterna-magica-bg-3-1.jpg
END:VEVENT
BEGIN:VEVENT
DTSTART;VALUE=DATE:20220323
DTEND;VALUE=DATE:20220324
DTSTAMP:20260424T112903
CREATED:20210525T090101Z
LAST-MODIFIED:20220127T085941Z
UID:20982-1647993600-1648079999@pai.com.es
SUMMARY:Recorridos Guiados • GALACHO DE JUSLIBOL\, Zaragoza
DESCRIPTION:
URL:https://pai.com.es/agenda-pai/recorridos-guiados-galacho-de-juslibol-zaragoza-10/
CATEGORIES:Medio Ambiente,Pai
ATTACH;FMTTYPE=image/jpeg:https://pai.com.es/wp-content/uploads/2015/04/pai-noticias-img-01.jpg
END:VEVENT
BEGIN:VEVENT
DTSTART;VALUE=DATE:20220325
DTEND;VALUE=DATE:20220326
DTSTAMP:20260424T112903
CREATED:20210525T090101Z
LAST-MODIFIED:20220127T090013Z
UID:20983-1648166400-1648252799@pai.com.es
SUMMARY:Recorridos Guiados • GALACHO DE JUSLIBOL\, Zaragoza
DESCRIPTION:
URL:https://pai.com.es/agenda-pai/recorridos-guiados-galacho-de-juslibol-zaragoza-11/
CATEGORIES:Medio Ambiente,Pai
ATTACH;FMTTYPE=image/jpeg:https://pai.com.es/wp-content/uploads/2015/04/pai-noticias-img-01.jpg
END:VEVENT
BEGIN:VEVENT
DTSTART;VALUE=DATE:20220326
DTEND;VALUE=DATE:20220327
DTSTAMP:20260424T112903
CREATED:20210525T105843Z
LAST-MODIFIED:20220125T171835Z
UID:20974-1648252800-1648339199@pai.com.es
SUMMARY:Un salto de gigante • C.C. ESTACIÓN DEL NORTE\, Zaragoza
DESCRIPTION:
URL:https://pai.com.es/agenda-pai/un-salto-de-gigante-c-c-estacion-del-norte-zaragoza/
CATEGORIES:Espectáculos - Sala,Pai
ATTACH;FMTTYPE=image/jpeg:https://pai.com.es/wp-content/uploads/2017/04/pai-sl-inicio-UnSaltoDeGigante.jpg
END:VEVENT
BEGIN:VEVENT
DTSTART;VALUE=DATE:20220327
DTEND;VALUE=DATE:20220328
DTSTAMP:20260424T112903
CREATED:20201231T110006Z
LAST-MODIFIED:20220125T171652Z
UID:20972-1648339200-1648425599@pai.com.es
SUMMARY:Coro Cocó • C.C. OLIVER\, Zaragoza
DESCRIPTION:
URL:https://pai.com.es/agenda-pai/coro-coco-huarte-navarra/
CATEGORIES:Espectáculos - Sala,Pai
ATTACH;FMTTYPE=image/jpeg:https://pai.com.es/wp-content/uploads/2017/02/pai-espectaculos-sala-corococo-tb-1-e1745863821476.jpg
END:VEVENT
BEGIN:VEVENT
DTSTART;VALUE=DATE:20220328
DTEND;VALUE=DATE:20220329
DTSTAMP:20260424T112903
CREATED:20210525T090101Z
LAST-MODIFIED:20210525T090101Z
UID:20988-1648425600-1648511999@pai.com.es
SUMMARY:Recorridos Guiados • GALACHO DE JUSLIBOL\, Zaragoza
DESCRIPTION:
URL:https://pai.com.es/agenda-pai/recorridos-guiados-galacho-de-juslibol-zaragoza-13/
CATEGORIES:Medio Ambiente,Pai
ATTACH;FMTTYPE=image/jpeg:https://pai.com.es/wp-content/uploads/2015/04/pai-noticias-img-01.jpg
END:VEVENT
BEGIN:VEVENT
DTSTART;VALUE=DATE:20220330
DTEND;VALUE=DATE:20220331
DTSTAMP:20260424T112903
CREATED:20210525T090101Z
LAST-MODIFIED:20220127T090209Z
UID:20986-1648598400-1648684799@pai.com.es
SUMMARY:Recorridos Guiados • GALACHO DE JUSLIBOL\, Zaragoza
DESCRIPTION:
URL:https://pai.com.es/agenda-pai/recorridos-guiados-galacho-de-juslibol-zaragoza-12/
CATEGORIES:Medio Ambiente,Pai
ATTACH;FMTTYPE=image/jpeg:https://pai.com.es/wp-content/uploads/2015/04/pai-noticias-img-01.jpg
END:VEVENT
END:VCALENDAR