BEGIN:VCALENDAR
VERSION:2.0
PRODID:-//PAI - ECPv6.15.11//NONSGML v1.0//EN
CALSCALE:GREGORIAN
METHOD:PUBLISH
X-ORIGINAL-URL:https://pai.com.es
X-WR-CALDESC:Eventos para PAI
REFRESH-INTERVAL;VALUE=DURATION:PT1H
X-Robots-Tag:noindex
X-PUBLISHED-TTL:PT1H
BEGIN:VTIMEZONE
TZID:Europe/Madrid
BEGIN:DAYLIGHT
TZOFFSETFROM:+0100
TZOFFSETTO:+0200
TZNAME:CEST
DTSTART:20220327T010000
END:DAYLIGHT
BEGIN:STANDARD
TZOFFSETFROM:+0200
TZOFFSETTO:+0100
TZNAME:CET
DTSTART:20221030T010000
END:STANDARD
BEGIN:DAYLIGHT
TZOFFSETFROM:+0100
TZOFFSETTO:+0200
TZNAME:CEST
DTSTART:20230326T010000
END:DAYLIGHT
BEGIN:STANDARD
TZOFFSETFROM:+0200
TZOFFSETTO:+0100
TZNAME:CET
DTSTART:20231029T010000
END:STANDARD
BEGIN:DAYLIGHT
TZOFFSETFROM:+0100
TZOFFSETTO:+0200
TZNAME:CEST
DTSTART:20240331T010000
END:DAYLIGHT
BEGIN:STANDARD
TZOFFSETFROM:+0200
TZOFFSETTO:+0100
TZNAME:CET
DTSTART:20241027T010000
END:STANDARD
END:VTIMEZONE
BEGIN:VEVENT
DTSTART;VALUE=DATE:20230701
DTEND;VALUE=DATE:20230702
DTSTAMP:20260424T012623
CREATED:20230531T220023Z
LAST-MODIFIED:20230607T090933Z
UID:21946-1688169600-1688255999@pai.com.es
SUMMARY:Sesión especial Linterna Mágica • UNCASTILLO\, Zaragoza
DESCRIPTION:
URL:https://pai.com.es/agenda-pai/sesion-especial-linterna-magica-uncastillo-zaragoza/
LOCATION:Uncastillo\, Zaragoza\, España
CATEGORIES:La linterna mágica,Pai
END:VEVENT
BEGIN:VEVENT
DTSTART;VALUE=DATE:20230706
DTEND;VALUE=DATE:20230715
DTSTAMP:20260424T012623
CREATED:20230531T220030Z
LAST-MODIFIED:20230607T091305Z
UID:21951-1688601600-1689379199@pai.com.es
SUMMARY:JuegoRejuego • PARQUE DE LA TACONERA-PAMPLONA\, Navarra
DESCRIPTION:
URL:https://pai.com.es/agenda-pai/juegorejuego-parque-de-la-taconera-pamplona-navarra-2/
CATEGORIES:Pai,Parques
ATTACH;FMTTYPE=image/jpeg:https://pai.com.es/wp-content/uploads/JRJ.jpg
END:VEVENT
BEGIN:VEVENT
DTSTART;VALUE=DATE:20230728
DTEND;VALUE=DATE:20230729
DTSTAMP:20260424T012623
CREATED:20230531T220006Z
LAST-MODIFIED:20230607T091415Z
UID:21953-1690502400-1690588799@pai.com.es
SUMMARY:Coro Cocó • AÍNSA\, Huesca
DESCRIPTION:
URL:https://pai.com.es/agenda-pai/coro-coco-ainsa-huesca/
CATEGORIES:Espectáculos - Sala,Pai
ATTACH;FMTTYPE=image/jpeg:https://pai.com.es/wp-content/uploads/2017/02/pai-espectaculos-sala-corococo-tb-1-e1745863821476.jpg
END:VEVENT
BEGIN:VEVENT
DTSTART;VALUE=DATE:20230729
DTEND;VALUE=DATE:20230730
DTSTAMP:20260424T012623
CREATED:20230531T220047Z
LAST-MODIFIED:20230622T101941Z
UID:21966-1690588800-1690675199@pai.com.es
SUMMARY:Garbeo Cósmico • MURILLO DE GÁLLEGO\, Zaragoza
DESCRIPTION:
URL:https://pai.com.es/agenda-pai/garbeo-cosmico-murillo-de-gallego-zaragoza/
CATEGORIES:Espectáculos - Sala,Pai,Taller
ATTACH;FMTTYPE=image/jpeg:https://pai.com.es/wp-content/uploads/2019/01/GarbeoCosmico1.jpg
END:VEVENT
BEGIN:VEVENT
DTSTART;VALUE=DATE:20230730
DTEND;VALUE=DATE:20230731
DTSTAMP:20260424T012623
CREATED:20230331T220001Z
LAST-MODIFIED:20230728T071638Z
UID:22155-1690675200-1690761599@pai.com.es
SUMMARY:Cuentos Colorados • AGÜERO\, Huesca
DESCRIPTION:
URL:https://pai.com.es/agenda-pai/cuentos-colorados-aguero-huesca/
CATEGORIES:Espectáculos - Sala,Pai
ATTACH;FMTTYPE=image/jpeg:https://pai.com.es/wp-content/uploads/2017/03/cuentoscolorados-pai-cartel.jpg
END:VEVENT
BEGIN:VEVENT
DTSTART;VALUE=DATE:20230730
DTEND;VALUE=DATE:20230731
DTSTAMP:20260424T012623
CREATED:20230601T220053Z
LAST-MODIFIED:20230607T091600Z
UID:21955-1690675200-1690761599@pai.com.es
SUMMARY:Garbijai • ETXEBARRI\, Vizcaya
DESCRIPTION:
URL:https://pai.com.es/agenda-pai/garbijai-etxebarri-vizcaya/
CATEGORIES:Espectáculos - Calle,Pai
ATTACH;FMTTYPE=image/jpeg:https://pai.com.es/wp-content/uploads/2019/05/GARBIJAI_pai_06.jpg
END:VEVENT
END:VCALENDAR