BEGIN:VCALENDAR
VERSION:2.0
PRODID:-//PAI - ECPv6.15.11//NONSGML v1.0//EN
CALSCALE:GREGORIAN
METHOD:PUBLISH
X-ORIGINAL-URL:https://pai.com.es
X-WR-CALDESC:Eventos para PAI
REFRESH-INTERVAL;VALUE=DURATION:PT1H
X-Robots-Tag:noindex
X-PUBLISHED-TTL:PT1H
BEGIN:VTIMEZONE
TZID:Europe/Madrid
BEGIN:DAYLIGHT
TZOFFSETFROM:+0100
TZOFFSETTO:+0200
TZNAME:CEST
DTSTART:20220327T010000
END:DAYLIGHT
BEGIN:STANDARD
TZOFFSETFROM:+0200
TZOFFSETTO:+0100
TZNAME:CET
DTSTART:20221030T010000
END:STANDARD
BEGIN:DAYLIGHT
TZOFFSETFROM:+0100
TZOFFSETTO:+0200
TZNAME:CEST
DTSTART:20230326T010000
END:DAYLIGHT
BEGIN:STANDARD
TZOFFSETFROM:+0200
TZOFFSETTO:+0100
TZNAME:CET
DTSTART:20231029T010000
END:STANDARD
BEGIN:DAYLIGHT
TZOFFSETFROM:+0100
TZOFFSETTO:+0200
TZNAME:CEST
DTSTART:20240331T010000
END:DAYLIGHT
BEGIN:STANDARD
TZOFFSETFROM:+0200
TZOFFSETTO:+0100
TZNAME:CET
DTSTART:20241027T010000
END:STANDARD
END:VTIMEZONE
BEGIN:VEVENT
DTSTART;VALUE=DATE:20230927
DTEND;VALUE=DATE:20231002
DTSTAMP:20260423T204513
CREATED:20230831T220001Z
LAST-MODIFIED:20230925T171124Z
UID:22242-1695772800-1696204799@pai.com.es
SUMMARY:Cuentos Colorados • CÁCERES\, Extremadura
DESCRIPTION:
URL:https://pai.com.es/agenda-pai/cuentos-colorados-caceres-extremadura/
CATEGORIES:Espectáculos - Sala,Pai
ATTACH;FMTTYPE=image/jpeg:https://pai.com.es/wp-content/uploads/2017/03/cuentoscolorados-pai-cartel.jpg
END:VEVENT
BEGIN:VEVENT
DTSTART;VALUE=DATE:20231003
DTEND;VALUE=DATE:20231004
DTSTAMP:20260423T204513
CREATED:20230531T220006Z
LAST-MODIFIED:20230925T171246Z
UID:22244-1696291200-1696377599@pai.com.es
SUMMARY:Coro Cocó • ALCAÑIZ\, Teruel
DESCRIPTION:
URL:https://pai.com.es/agenda-pai/coro-coco-alcaniz-teruel/
CATEGORIES:Espectáculos - Sala,Pai
ATTACH;FMTTYPE=image/jpeg:https://pai.com.es/wp-content/uploads/2017/02/pai-espectaculos-sala-corococo-tb-1-e1745863821476.jpg
END:VEVENT
BEGIN:VEVENT
DTSTART;VALUE=DATE:20231008
DTEND;VALUE=DATE:20231016
DTSTAMP:20260423T204513
CREATED:20230831T220042Z
LAST-MODIFIED:20230925T172923Z
UID:21388-1696723200-1697414399@pai.com.es
SUMMARY:2023 Río y Juego • EXPO\, Zaragoza
DESCRIPTION:
URL:https://pai.com.es/agenda-pai/2023-rio-y-juego-expo-zaragoza/
CATEGORIES:Pai,Parques
ATTACH;FMTTYPE=image/png:https://pai.com.es/wp-content/uploads/RJ2023.png
END:VEVENT
BEGIN:VEVENT
DTSTART;VALUE=DATE:20231018
DTEND;VALUE=DATE:20231023
DTSTAMP:20260423T204513
CREATED:20230831T220010Z
LAST-MODIFIED:20230925T183253Z
UID:22255-1697587200-1698019199@pai.com.es
SUMMARY:Artilogios • HERENCIA\, Castilla la Mancha
DESCRIPTION:
URL:https://pai.com.es/agenda-pai/artilogios-herencia-castilla-la-mancha/
CATEGORIES:Espectáculos - Sala,Pai
ATTACH;FMTTYPE=image/jpeg:https://pai.com.es/wp-content/uploads/2019/04/Artilogios_destacada.jpg
END:VEVENT
BEGIN:VEVENT
DTSTART;VALUE=DATE:20231021
DTEND;VALUE=DATE:20231022
DTSTAMP:20260423T204513
CREATED:20230831T220035Z
LAST-MODIFIED:20230925T173430Z
UID:22259-1697846400-1697932799@pai.com.es
SUMMARY:La Linterna Mágica • CC ESTACIÓN DEL NORTE\, Zaragoza
DESCRIPTION:
URL:https://pai.com.es/agenda-pai/la-linterna-magica-cc-estacion-del-norte-zaragoza-7/
CATEGORIES:La linterna mágica,Pai
ATTACH;FMTTYPE=image/jpeg:https://pai.com.es/wp-content/uploads/Visuel_23-scaled.jpg
END:VEVENT
BEGIN:VEVENT
DTSTART;VALUE=DATE:20231022
DTEND;VALUE=DATE:20231023
DTSTAMP:20260423T204513
CREATED:20230831T220035Z
LAST-MODIFIED:20230925T173309Z
UID:22257-1697932800-1698019199@pai.com.es
SUMMARY:La Linterna Mágica • CC T. SÁNCHEZ PUNTER\, Zaragoza
DESCRIPTION:
URL:https://pai.com.es/agenda-pai/la-linterna-magica-cc-t-sanchez-punter-zaragoza-8/
CATEGORIES:La linterna mágica,Pai
ATTACH;FMTTYPE=image/jpeg:https://pai.com.es/wp-content/uploads/Visuel_23-scaled.jpg
END:VEVENT
BEGIN:VEVENT
DTSTART;VALUE=DATE:20231024
DTEND;VALUE=DATE:20231025
DTSTAMP:20260423T204513
CREATED:20230831T220010Z
LAST-MODIFIED:20230925T185823Z
UID:22265-1698105600-1698191999@pai.com.es
SUMMARY:Artilogios • ALCAÑIZ\, Teruel
DESCRIPTION:
URL:https://pai.com.es/agenda-pai/artilogios-alcaniz-teruel/
CATEGORIES:Espectáculos - Sala,Pai
ATTACH;FMTTYPE=image/jpeg:https://pai.com.es/wp-content/uploads/2019/04/Artilogios_destacada.jpg
END:VEVENT
BEGIN:VEVENT
DTSTART;VALUE=DATE:20231028
DTEND;VALUE=DATE:20231029
DTSTAMP:20260423T204513
CREATED:20230831T220010Z
LAST-MODIFIED:20230925T191322Z
UID:22261-1698451200-1698537599@pai.com.es
SUMMARY:Artilogios • ESPLÚS\, Huesca
DESCRIPTION:
URL:https://pai.com.es/agenda-pai/artilogios-esplus-huesca/
CATEGORIES:Espectáculos - Sala,Pai
ATTACH;FMTTYPE=image/jpeg:https://pai.com.es/wp-content/uploads/2019/04/Artilogios_destacada.jpg
END:VEVENT
BEGIN:VEVENT
DTSTART;VALUE=DATE:20231029
DTEND;VALUE=DATE:20231030
DTSTAMP:20260423T204513
CREATED:20230831T220011Z
LAST-MODIFIED:20230925T191033Z
UID:22267-1698537600-1698623999@pai.com.es
SUMMARY:Un salto de gigante • MONREAL DEL CAMPO\, Teruel
DESCRIPTION:
URL:https://pai.com.es/agenda-pai/un-salto-de-gigante-monreal-del-campo-teruel/
CATEGORIES:Espectáculos - Sala,Pai
ATTACH;FMTTYPE=image/jpeg:https://pai.com.es/wp-content/uploads/2017/04/pai-sl-inicio-UnSaltoDeGigante.jpg
END:VEVENT
END:VCALENDAR