BEGIN:VCALENDAR
VERSION:2.0
PRODID:-//PAI - ECPv6.15.11//NONSGML v1.0//EN
CALSCALE:GREGORIAN
METHOD:PUBLISH
X-ORIGINAL-URL:https://pai.com.es
X-WR-CALDESC:Eventos para PAI
REFRESH-INTERVAL;VALUE=DURATION:PT1H
X-Robots-Tag:noindex
X-PUBLISHED-TTL:PT1H
BEGIN:VTIMEZONE
TZID:UTC
BEGIN:STANDARD
TZOFFSETFROM:+0000
TZOFFSETTO:+0000
TZNAME:UTC
DTSTART:20190101T000000
END:STANDARD
END:VTIMEZONE
BEGIN:VEVENT
DTSTART;VALUE=DATE:20201206
DTEND;VALUE=DATE:20201207
DTSTAMP:20260425T124551
CREATED:20201201T110016Z
LAST-MODIFIED:20201201T110016Z
UID:20043-1607212800-1607299199@pai.com.es
SUMMARY:Artilogios • LOS SILOS\, Tenerife
DESCRIPTION:
URL:https://pai.com.es/agenda-pai/artilogios-los-silos-tenerife-5/
CATEGORIES:Espectáculos - Sala,Pai,Taller
ATTACH;FMTTYPE=image/jpeg:https://pai.com.es/wp-content/uploads/2018/05/ARTILOGIOS_banner.jpg
END:VEVENT
END:VCALENDAR