BEGIN:VCALENDAR
VERSION:2.0
PRODID:-//PAI - ECPv6.15.11//NONSGML v1.0//EN
CALSCALE:GREGORIAN
METHOD:PUBLISH
X-ORIGINAL-URL:https://pai.com.es
X-WR-CALDESC:Eventos para PAI
REFRESH-INTERVAL;VALUE=DURATION:PT1H
X-Robots-Tag:noindex
X-PUBLISHED-TTL:PT1H
BEGIN:VTIMEZONE
TZID:UTC
BEGIN:STANDARD
TZOFFSETFROM:+0000
TZOFFSETTO:+0000
TZNAME:UTC
DTSTART:20190101T000000
END:STANDARD
END:VTIMEZONE
BEGIN:VEVENT
DTSTART;VALUE=DATE:20201212
DTEND;VALUE=DATE:20201213
DTSTAMP:20260425T124638
CREATED:20201201T110006Z
LAST-MODIFIED:20201201T110006Z
UID:20057-1607731200-1607817599@pai.com.es
SUMMARY:Coro Cocó • CC SALVADOR ALLENDE\, Zaragoza
DESCRIPTION:
URL:https://pai.com.es/agenda-pai/coro-coco-cc-salvador-allende-zaragoza-2/
CATEGORIES:Espectáculos - Sala,Pai
ATTACH;FMTTYPE=image/jpeg:https://pai.com.es/wp-content/uploads/2017/02/pai-espectaculos-sala-corococo-tb-1-e1745863821476.jpg
END:VEVENT
BEGIN:VEVENT
DTSTART;VALUE=DATE:20201212
DTEND;VALUE=DATE:20201213
DTSTAMP:20260425T124638
CREATED:20201201T110035Z
LAST-MODIFIED:20201201T110035Z
UID:20072-1607731200-1607817599@pai.com.es
SUMMARY:La Linterna Mágica • CC RÍO EBRO y CC ESTACIÓN DEL NORTE\, Zaragoza
DESCRIPTION:
URL:https://pai.com.es/agenda-pai/la-linterna-magica-cc-rio-ebro-y-cc-estacion-del-norte-zaragoza-3/
CATEGORIES:La linterna mágica,Pai
ATTACH;FMTTYPE=image/jpeg:https://pai.com.es/wp-content/uploads/2017/02/pai-linterna-magica-bg-3-1.jpg
END:VEVENT
END:VCALENDAR