BEGIN:VCALENDAR
VERSION:2.0
PRODID:-//PAI - ECPv6.15.11//NONSGML v1.0//EN
CALSCALE:GREGORIAN
METHOD:PUBLISH
X-ORIGINAL-URL:https://pai.com.es
X-WR-CALDESC:Eventos para PAI
REFRESH-INTERVAL;VALUE=DURATION:PT1H
X-Robots-Tag:noindex
X-PUBLISHED-TTL:PT1H
BEGIN:VTIMEZONE
TZID:UTC
BEGIN:STANDARD
TZOFFSETFROM:+0000
TZOFFSETTO:+0000
TZNAME:UTC
DTSTART:20200101T000000
END:STANDARD
END:VTIMEZONE
BEGIN:VEVENT
DTSTART;VALUE=DATE:20210703
DTEND;VALUE=DATE:20210704
DTSTAMP:20260425T020525
CREATED:20210701T100047Z
LAST-MODIFIED:20210703T113417Z
UID:16938-1625270400-1625356799@pai.com.es
SUMMARY:Curso Foto Planetario
DESCRIPTION:
URL:https://pai.com.es/agenda-pai/fiesta-stars-zaragoza-zaragoza/
CATEGORIES:Pai,Taller
END:VEVENT
END:VCALENDAR