BEGIN:VCALENDAR
VERSION:2.0
PRODID:-//PAI - ECPv6.15.11//NONSGML v1.0//EN
CALSCALE:GREGORIAN
METHOD:PUBLISH
X-ORIGINAL-URL:https://pai.com.es
X-WR-CALDESC:Eventos para PAI
REFRESH-INTERVAL;VALUE=DURATION:PT1H
X-Robots-Tag:noindex
X-PUBLISHED-TTL:PT1H
BEGIN:VTIMEZONE
TZID:UTC
BEGIN:STANDARD
TZOFFSETFROM:+0000
TZOFFSETTO:+0000
TZNAME:UTC
DTSTART:20200101T000000
END:STANDARD
END:VTIMEZONE
BEGIN:VTIMEZONE
TZID:Europe/Madrid
BEGIN:DAYLIGHT
TZOFFSETFROM:+0100
TZOFFSETTO:+0200
TZNAME:CEST
DTSTART:20200329T010000
END:DAYLIGHT
BEGIN:STANDARD
TZOFFSETFROM:+0200
TZOFFSETTO:+0100
TZNAME:CET
DTSTART:20201025T010000
END:STANDARD
BEGIN:DAYLIGHT
TZOFFSETFROM:+0100
TZOFFSETTO:+0200
TZNAME:CEST
DTSTART:20210328T010000
END:DAYLIGHT
BEGIN:STANDARD
TZOFFSETFROM:+0200
TZOFFSETTO:+0100
TZNAME:CET
DTSTART:20211031T010000
END:STANDARD
BEGIN:DAYLIGHT
TZOFFSETFROM:+0100
TZOFFSETTO:+0200
TZNAME:CEST
DTSTART:20220327T010000
END:DAYLIGHT
BEGIN:STANDARD
TZOFFSETFROM:+0200
TZOFFSETTO:+0100
TZNAME:CET
DTSTART:20221030T010000
END:STANDARD
END:VTIMEZONE
BEGIN:VEVENT
DTSTART;VALUE=DATE:20211227
DTEND;VALUE=DATE:20211231
DTSTAMP:20260424T155214
CREATED:20190709T070308Z
LAST-MODIFIED:20211223T121715Z
UID:18127-1640563200-1640908799@pai.com.es
SUMMARY:Restaurante “Planeta Tierra” • FRAGA\, Zaragoza
DESCRIPTION:
URL:https://pai.com.es/agenda-pai/restaurante-planeta-tierra-fraga-zaragoza/
CATEGORIES:Medio Ambiente,Pai
ATTACH;FMTTYPE=image/png:https://pai.com.es/wp-content/uploads/2019/01/RPT.png
END:VEVENT
BEGIN:VEVENT
DTSTART;VALUE=DATE:20211229
DTEND;VALUE=DATE:20211230
DTSTAMP:20260424T155214
CREATED:20210525T091135Z
LAST-MODIFIED:20211216T161346Z
UID:20298-1640736000-1640822399@pai.com.es
SUMMARY:Llámame Mary • CC DELICIAS\, Zaragoza
DESCRIPTION:
URL:https://pai.com.es/agenda-pai/ccdelicias/
CATEGORIES:Espectáculos - Sala,Pai
ATTACH;FMTTYPE=image/jpeg:https://pai.com.es/wp-content/uploads/2021/04/llámame-Mary_-18-scaled.jpg
END:VEVENT
BEGIN:VEVENT
DTSTART;VALUE=DATE:20211229
DTEND;VALUE=DATE:20211230
DTSTAMP:20260424T155214
CREATED:20210701T100001Z
LAST-MODIFIED:20211223T122555Z
UID:20757-1640736000-1640822399@pai.com.es
SUMMARY:Cuentos Colorados • VILLANUEVA DE GÁLLEGO\, Zaragoza
DESCRIPTION:
URL:https://pai.com.es/agenda-pai/cuentos-colorados-villanueva-de-gallego-zaragoza/
CATEGORIES:Espectáculos - Sala,Pai
ATTACH;FMTTYPE=image/jpeg:https://pai.com.es/wp-content/uploads/2017/03/cuentoscolorados-pai-cartel.jpg
END:VEVENT
END:VCALENDAR