BEGIN:VCALENDAR
VERSION:2.0
PRODID:-//PAI - ECPv6.15.11//NONSGML v1.0//EN
CALSCALE:GREGORIAN
METHOD:PUBLISH
X-WR-CALNAME:PAI
X-ORIGINAL-URL:https://pai.com.es
X-WR-CALDESC:Eventos para PAI
REFRESH-INTERVAL;VALUE=DURATION:PT1H
X-Robots-Tag:noindex
X-PUBLISHED-TTL:PT1H
BEGIN:VTIMEZONE
TZID:UTC
BEGIN:STANDARD
TZOFFSETFROM:+0000
TZOFFSETTO:+0000
TZNAME:UTC
DTSTART:20210101T000000
END:STANDARD
END:VTIMEZONE
BEGIN:VEVENT
DTSTART;VALUE=DATE:20220105
DTEND;VALUE=DATE:20220106
DTSTAMP:20260424T155803
CREATED:20191205T125723Z
LAST-MODIFIED:20211223T124257Z
UID:20871-1641340800-1641427199@pai.com.es
SUMMARY:Cabalgata de Reyes • ZARAGOZA\, Zaragoza
DESCRIPTION:
URL:https://pai.com.es/agenda-pai/cabalgata-de-reyes-zaragoza-zaragoza-2/
CATEGORIES:Espectáculos - Calle,Pai
ATTACH;FMTTYPE=image/jpeg:https://pai.com.es/wp-content/uploads/2018/01/IMG-20180105-WA0011.jpg
END:VEVENT
BEGIN:VEVENT
DTSTART;VALUE=DATE:20220105
DTEND;VALUE=DATE:20220106
DTSTAMP:20260424T155803
CREATED:20201231T110006Z
LAST-MODIFIED:20211223T125034Z
UID:18863-1641340800-1641427199@pai.com.es
SUMMARY:Coro Cocó • BOTORRITA\, Zaragoza
DESCRIPTION:
URL:https://pai.com.es/agenda-pai/coro-coco-botorrita-zaragoza/
CATEGORIES:Espectáculos - Sala,Pai
ATTACH;FMTTYPE=image/jpeg:https://pai.com.es/wp-content/uploads/2017/02/pai-espectaculos-sala-corococo-tb-1-e1745863821476.jpg
END:VEVENT
END:VCALENDAR