BEGIN:VCALENDAR
VERSION:2.0
PRODID:-//PAI - ECPv6.15.11//NONSGML v1.0//EN
CALSCALE:GREGORIAN
METHOD:PUBLISH
X-WR-CALNAME:PAI
X-ORIGINAL-URL:https://pai.com.es
X-WR-CALDESC:Eventos para PAI
REFRESH-INTERVAL;VALUE=DURATION:PT1H
X-Robots-Tag:noindex
X-PUBLISHED-TTL:PT1H
BEGIN:VTIMEZONE
TZID:Europe/Madrid
BEGIN:DAYLIGHT
TZOFFSETFROM:+0100
TZOFFSETTO:+0200
TZNAME:CEST
DTSTART:20210328T010000
END:DAYLIGHT
BEGIN:STANDARD
TZOFFSETFROM:+0200
TZOFFSETTO:+0100
TZNAME:CET
DTSTART:20211031T010000
END:STANDARD
BEGIN:DAYLIGHT
TZOFFSETFROM:+0100
TZOFFSETTO:+0200
TZNAME:CEST
DTSTART:20220327T010000
END:DAYLIGHT
BEGIN:STANDARD
TZOFFSETFROM:+0200
TZOFFSETTO:+0100
TZNAME:CET
DTSTART:20221030T010000
END:STANDARD
BEGIN:DAYLIGHT
TZOFFSETFROM:+0100
TZOFFSETTO:+0200
TZNAME:CEST
DTSTART:20230326T010000
END:DAYLIGHT
BEGIN:STANDARD
TZOFFSETFROM:+0200
TZOFFSETTO:+0100
TZNAME:CET
DTSTART:20231029T010000
END:STANDARD
END:VTIMEZONE
BEGIN:VEVENT
DTSTART;VALUE=DATE:20220429
DTEND;VALUE=DATE:20220430
DTSTAMP:20260424T112824
CREATED:20210701T100047Z
LAST-MODIFIED:20220420T080621Z
UID:21056-1651190400-1651276799@pai.com.es
SUMMARY:Noche de Star Mirando • SAN ESTEBAN DE LITERA\, Huesca
DESCRIPTION:
URL:https://pai.com.es/agenda-pai/noche-de-star-mirando-san-esteban-de-litera-huesca/
CATEGORIES:Espectáculos - Calle,Pai,Taller
ATTACH;FMTTYPE=image/jpeg:https://pai.com.es/wp-content/uploads/STARMIRANDO.jpg
END:VEVENT
BEGIN:VEVENT
DTSTART;VALUE=DATE:20220429
DTEND;VALUE=DATE:20220430
DTSTAMP:20260424T112824
CREATED:20220330T164039Z
LAST-MODIFIED:20220420T095930Z
UID:21117-1651190400-1651276799@pai.com.es
SUMMARY:Taller “Un desierto de papel” • CENTRO JOAQUÍN RONCAL\, Zaragoza
DESCRIPTION:
URL:https://pai.com.es/agenda-pai/taller-un-desierto-de-papel-centro-joaquin-roncal-zaragoza-zaragoza-2/
CATEGORIES:Pai,Taller
ATTACH;FMTTYPE=image/jpeg:https://pai.com.es/wp-content/uploads/DESIERTO_PAPEL.jpg
END:VEVENT
BEGIN:VEVENT
DTSTART;VALUE=DATE:20220429
DTEND;VALUE=DATE:20220430
DTSTAMP:20260424T112824
CREATED:20220331T220047Z
LAST-MODIFIED:20220420T080418Z
UID:21184-1651190400-1651276799@pai.com.es
SUMMARY:Aquí huele a Dragón\, COLEGIO AGUSTÍN GERICÓ\, Zaragoza
DESCRIPTION:
URL:https://pai.com.es/agenda-pai/aqui-huele-a-dragon-colegio-agustin-gerico-zaragoza/
CATEGORIES:Pai,Taller
ATTACH;FMTTYPE=image/jpeg:https://pai.com.es/wp-content/uploads/2017/04/talleres-pai-AquiHueleADragon-fotos-1.jpg
END:VEVENT
END:VCALENDAR