BEGIN:VCALENDAR
VERSION:2.0
PRODID:-//PAI - ECPv6.15.11//NONSGML v1.0//EN
CALSCALE:GREGORIAN
METHOD:PUBLISH
X-ORIGINAL-URL:https://pai.com.es
X-WR-CALDESC:Eventos para PAI
REFRESH-INTERVAL;VALUE=DURATION:PT1H
X-Robots-Tag:noindex
X-PUBLISHED-TTL:PT1H
BEGIN:VTIMEZONE
TZID:Europe/Madrid
BEGIN:DAYLIGHT
TZOFFSETFROM:+0100
TZOFFSETTO:+0200
TZNAME:CEST
DTSTART:20230326T010000
END:DAYLIGHT
BEGIN:STANDARD
TZOFFSETFROM:+0200
TZOFFSETTO:+0100
TZNAME:CET
DTSTART:20231029T010000
END:STANDARD
BEGIN:DAYLIGHT
TZOFFSETFROM:+0100
TZOFFSETTO:+0200
TZNAME:CEST
DTSTART:20240331T010000
END:DAYLIGHT
BEGIN:STANDARD
TZOFFSETFROM:+0200
TZOFFSETTO:+0100
TZNAME:CET
DTSTART:20241027T010000
END:STANDARD
BEGIN:DAYLIGHT
TZOFFSETFROM:+0100
TZOFFSETTO:+0200
TZNAME:CEST
DTSTART:20250330T010000
END:DAYLIGHT
BEGIN:STANDARD
TZOFFSETFROM:+0200
TZOFFSETTO:+0100
TZNAME:CET
DTSTART:20251026T010000
END:STANDARD
BEGIN:DAYLIGHT
TZOFFSETFROM:+0100
TZOFFSETTO:+0200
TZNAME:CEST
DTSTART:20260329T010000
END:DAYLIGHT
BEGIN:STANDARD
TZOFFSETFROM:+0200
TZOFFSETTO:+0100
TZNAME:CET
DTSTART:20261025T010000
END:STANDARD
END:VTIMEZONE
BEGIN:VEVENT
DTSTART;TZID=Europe/Madrid:20240512T114500
DTEND;TZID=Europe/Madrid:20240512T133000
DTSTAMP:20260421T182250
CREATED:20231231T230035Z
LAST-MODIFIED:20240412T110440Z
UID:22760-1715514300-1715520600@pai.com.es
SUMMARY:La Linterna Mágica • CC T. SÁNCHEZ PUNTER\, Zaragoza
DESCRIPTION:
URL:https://pai.com.es/agenda-pai/copia-de-la-linterna-magica-cc-t-sanchez-punter-zaragoza-7/
CATEGORIES:La linterna mágica,Pai
ATTACH;FMTTYPE=image/jpeg:https://pai.com.es/wp-content/uploads/Visuel_23-scaled.jpg
END:VEVENT
BEGIN:VEVENT
DTSTART;VALUE=DATE:20240513
DTEND;VALUE=DATE:20240516
DTSTAMP:20260421T182250
CREATED:20231231T230001Z
LAST-MODIFIED:20240412T105743Z
UID:22755-1715558400-1715817599@pai.com.es
SUMMARY:Recorridos Guiados • GALACHO DE JUSLIBOL\, Zaragoza
DESCRIPTION:
URL:https://pai.com.es/agenda-pai/recorridos-guiados-galacho-de-juslibol-zaragoza-48/
CATEGORIES:Medio Ambiente,Pai
ATTACH;FMTTYPE=image/jpeg:https://pai.com.es/wp-content/uploads/2015/04/pai-noticias-img-01.jpg
END:VEVENT
BEGIN:VEVENT
DTSTART;VALUE=DATE:20240516
DTEND;VALUE=DATE:20240521
DTSTAMP:20260421T182250
CREATED:20240331T220001Z
LAST-MODIFIED:20240412T105126Z
UID:22745-1715817600-1716249599@pai.com.es
SUMMARY:Cuentos y Artilogios• MONTEMOR\, Portugal
DESCRIPTION:
URL:https://pai.com.es/agenda-pai/cuentos-y-artilogios-montemor-portugal/
CATEGORIES:Espectáculos - Sala,Pai
ATTACH;FMTTYPE=image/jpeg:https://pai.com.es/wp-content/uploads/2017/03/cuentoscolorados-pai-cartel.jpg
END:VEVENT
BEGIN:VEVENT
DTSTART;VALUE=DATE:20240523
DTEND;VALUE=DATE:20240526
DTSTAMP:20260421T182250
CREATED:20240331T220047Z
LAST-MODIFIED:20240416T080324Z
UID:22770-1716422400-1716681599@pai.com.es
SUMMARY:Lavando voy • LAS ROZAS\, Madrid
DESCRIPTION:
URL:https://pai.com.es/agenda-pai/lavando-voy-las-rozas-madrid/
CATEGORIES:Espectáculos - Calle,Pai
ATTACH;FMTTYPE=image/jpeg:https://pai.com.es/wp-content/uploads/2017/03/lavandovoy-pai-foto-06.jpg
END:VEVENT
BEGIN:VEVENT
DTSTART;VALUE=DATE:20240524
DTEND;VALUE=DATE:20240525
DTSTAMP:20260421T182250
CREATED:20240331T220052Z
LAST-MODIFIED:20240416T080507Z
UID:22774-1716508800-1716595199@pai.com.es
SUMMARY:324 Juegos • LA ALMOLDA\, Zaragoza
DESCRIPTION:
URL:https://pai.com.es/agenda-pai/324-juegos-la-almolda-zaragoza/
CATEGORIES:Espectáculos - Calle,Pai
ATTACH;FMTTYPE=image/jpeg:https://pai.com.es/wp-content/uploads/2017/03/324juegos-pai-cartel.jpg
END:VEVENT
BEGIN:VEVENT
DTSTART;VALUE=DATE:20240526
DTEND;VALUE=DATE:20240527
DTSTAMP:20260421T182250
CREATED:20240331T220052Z
LAST-MODIFIED:20240416T080937Z
UID:22773-1716681600-1716767999@pai.com.es
SUMMARY:Fiesta ASPANOA • AUDITORIO DE ZARAGOZA\, Zaragoza
DESCRIPTION:
URL:https://pai.com.es/agenda-pai/fiesta-aspanoa-auditorio-de-zaragoza-zaragoza/
CATEGORIES:Espectáculos - Calle,Pai
END:VEVENT
BEGIN:VEVENT
DTSTART;VALUE=DATE:20240527
DTEND;VALUE=DATE:20240601
DTSTAMP:20260421T182250
CREATED:20231231T230001Z
LAST-MODIFIED:20240416T080035Z
UID:22767-1716768000-1717199999@pai.com.es
SUMMARY:Recorridos Guiados • GALACHO DE JUSLIBOL\, Zaragoza
DESCRIPTION:
URL:https://pai.com.es/agenda-pai/copia-de-recorridos-guiados-galacho-de-juslibol-zaragoza-14/
CATEGORIES:Medio Ambiente,Pai
ATTACH;FMTTYPE=image/jpeg:https://pai.com.es/wp-content/uploads/2015/04/pai-noticias-img-01.jpg
END:VEVENT
BEGIN:VEVENT
DTSTART;VALUE=DATE:20240602
DTEND;VALUE=DATE:20240603
DTSTAMP:20260421T182250
CREATED:20240331T220040Z
LAST-MODIFIED:20240416T081215Z
UID:22778-1717286400-1717372799@pai.com.es
SUMMARY:Ferieta Escuela Pública Vasca • ORDIZIA\, Guipuzcoa
DESCRIPTION:
URL:https://pai.com.es/agenda-pai/ferieta-escuela-publica-vasca-ordizia-guipuzcoa/
CATEGORIES:Espectáculos - Calle,Pai
ATTACH;FMTTYPE=image/jpeg:https://pai.com.es/wp-content/uploads/2017/04/espacios-pai-FerietaPirata-fotos-6.jpg
END:VEVENT
BEGIN:VEVENT
DTSTART;VALUE=DATE:20240608
DTEND;VALUE=DATE:20240609
DTSTAMP:20260421T182250
CREATED:02020401T121531Z
LAST-MODIFIED:20240416T081704Z
UID:22786-1717804800-1717891199@pai.com.es
SUMMARY:Noche de Star Mirando • PINSEQUE\, Zaragoza
DESCRIPTION:
URL:https://pai.com.es/agenda-pai/noche-de-star-mirando-pinseque-zaragoza/
CATEGORIES:Espectáculos - Calle,Pai,Taller
ATTACH;FMTTYPE=image/jpeg:https://pai.com.es/wp-content/uploads/STARMIRANDO.jpg
END:VEVENT
BEGIN:VEVENT
DTSTART;TZID=Europe/Madrid:20240608T114500
DTEND;TZID=Europe/Madrid:20240608T133000
DTSTAMP:20260421T182250
CREATED:20231231T230035Z
LAST-MODIFIED:20240416T081807Z
UID:22788-1717847100-1717853400@pai.com.es
SUMMARY:La Linterna Mágica • CC ESTACIÓN DEL NORTE\, Zaragoza
DESCRIPTION:
URL:https://pai.com.es/agenda-pai/copia-de-la-linterna-magica-cc-estacion-del-norte-zaragoza-6/
CATEGORIES:La linterna mágica,Pai
ATTACH;FMTTYPE=image/jpeg:https://pai.com.es/wp-content/uploads/Visuel_23-scaled.jpg
END:VEVENT
BEGIN:VEVENT
DTSTART;TZID=Europe/Madrid:20240609T114500
DTEND;TZID=Europe/Madrid:20240609T133000
DTSTAMP:20260421T182250
CREATED:20231231T230035Z
LAST-MODIFIED:20240416T081923Z
UID:22790-1717933500-1717939800@pai.com.es
SUMMARY:La Linterna Mágica • CC T. SÁNCHEZ PUNTER\, Zaragoza
DESCRIPTION:
URL:https://pai.com.es/agenda-pai/copia-de-la-linterna-magica-cc-t-sanchez-punter-zaragoza-8/
CATEGORIES:La linterna mágica,Pai
ATTACH;FMTTYPE=image/jpeg:https://pai.com.es/wp-content/uploads/Visuel_23-scaled.jpg
END:VEVENT
BEGIN:VEVENT
DTSTART;VALUE=DATE:20240610
DTEND;VALUE=DATE:20240611
DTSTAMP:20260421T182250
CREATED:20231231T230001Z
LAST-MODIFIED:20240416T081355Z
UID:22781-1717977600-1718063999@pai.com.es
SUMMARY:Recorridos Guiados • GALACHO DE JUSLIBOL\, Zaragoza
DESCRIPTION:
URL:https://pai.com.es/agenda-pai/copia-de-recorridos-guiados-galacho-de-juslibol-zaragoza-15/
CATEGORIES:Medio Ambiente,Pai
ATTACH;FMTTYPE=image/jpeg:https://pai.com.es/wp-content/uploads/2015/04/pai-noticias-img-01.jpg
END:VEVENT
BEGIN:VEVENT
DTSTART;VALUE=DATE:20240615
DTEND;VALUE=DATE:20240616
DTSTAMP:20260421T182250
CREATED:20231231T230040Z
LAST-MODIFIED:20240416T093122Z
UID:22807-1718409600-1718495999@pai.com.es
SUMMARY:Ferieta pirata • MEZQUITA DE JARQUE\, Teruel
DESCRIPTION:
URL:https://pai.com.es/agenda-pai/ferieta-pirata-mezquita-de-jarque-teruel-2/
CATEGORIES:Espectáculos - Calle,Pai
ATTACH;FMTTYPE=image/jpeg:https://pai.com.es/wp-content/uploads/2017/04/espacios-pai-FerietaPirata-fotos-6.jpg
END:VEVENT
BEGIN:VEVENT
DTSTART;VALUE=DATE:20240616
DTEND;VALUE=DATE:20240617
DTSTAMP:20260421T182250
CREATED:20240331T220040Z
LAST-MODIFIED:20240416T083529Z
UID:22792-1718496000-1718582399@pai.com.es
SUMMARY:El Puntazo• MONTAÑANA\, Zaragoza
DESCRIPTION:
URL:https://pai.com.es/agenda-pai/ferieta-pirata-la-muela-zaragoza-2/
CATEGORIES:Espectáculos - Calle,Pai
ATTACH;FMTTYPE=image/jpeg:https://pai.com.es/wp-content/uploads/el-puntazo.jpg
END:VEVENT
BEGIN:VEVENT
DTSTART;VALUE=DATE:20240618
DTEND;VALUE=DATE:20240619
DTSTAMP:20260421T182250
CREATED:20231231T230040Z
LAST-MODIFIED:20240416T093143Z
UID:22802-1718668800-1718755199@pai.com.es
SUMMARY:Ferieta pirata • CP ARCOSUR\, Zaragoza
DESCRIPTION:
URL:https://pai.com.es/agenda-pai/ferieta-pirata-cp-arcosur-zaragoza/
CATEGORIES:Espectáculos - Calle,Pai
ATTACH;FMTTYPE=image/jpeg:https://pai.com.es/wp-content/uploads/2017/04/espacios-pai-FerietaPirata-fotos-6.jpg
END:VEVENT
BEGIN:VEVENT
DTSTART;VALUE=DATE:20240620
DTEND;VALUE=DATE:20240622
DTSTAMP:20260421T182250
CREATED:20231231T230040Z
LAST-MODIFIED:20240416T093251Z
UID:22809-1718841600-1719014399@pai.com.es
SUMMARY:Ferieta pirata • CP FORO ROMANO\, Cuarte de Huerva
DESCRIPTION:
URL:https://pai.com.es/agenda-pai/ferieta-pirata-cp-foro-romano-cuarte-de-huerva/
CATEGORIES:Espectáculos - Calle,Pai
ATTACH;FMTTYPE=image/jpeg:https://pai.com.es/wp-content/uploads/2017/04/espacios-pai-FerietaPirata-fotos-6.jpg
END:VEVENT
BEGIN:VEVENT
DTSTART;VALUE=DATE:20240624
DTEND;VALUE=DATE:20240625
DTSTAMP:20260421T182250
CREATED:20231231T230040Z
LAST-MODIFIED:20240416T093428Z
UID:22811-1719187200-1719273599@pai.com.es
SUMMARY:Ferieta pirata •SAN JUAN DE MOZARRIFAR\, Zaragoza
DESCRIPTION:
URL:https://pai.com.es/agenda-pai/ferieta-pirata-san-juan-de-mozarrifar-zaragoza/
CATEGORIES:Espectáculos - Calle,Pai
ATTACH;FMTTYPE=image/jpeg:https://pai.com.es/wp-content/uploads/2017/04/espacios-pai-FerietaPirata-fotos-6.jpg
END:VEVENT
BEGIN:VEVENT
DTSTART;VALUE=DATE:20240626
DTEND;VALUE=DATE:20240627
DTSTAMP:20260421T182250
CREATED:20240331T220053Z
LAST-MODIFIED:20240416T083824Z
UID:22784-1719360000-1719446399@pai.com.es
SUMMARY:Garbijai • LAGUARDIA\, Álava
DESCRIPTION:
URL:https://pai.com.es/agenda-pai/garbijai-laguardia-alava/
CATEGORIES:Espectáculos - Calle,Pai
ATTACH;FMTTYPE=image/jpeg:https://pai.com.es/wp-content/uploads/2019/05/GARBIJAI_pai_06.jpg
END:VEVENT
BEGIN:VEVENT
DTSTART;VALUE=DATE:20241104
DTEND;VALUE=DATE:20241105
DTSTAMP:20260421T182250
CREATED:20241031T113317Z
LAST-MODIFIED:20241031T113317Z
UID:23218-1730678400-1730764799@pai.com.es
SUMMARY:Historias de la lengua Floja_Valdealgorfa
DESCRIPTION:
URL:https://pai.com.es/agenda-pai/historias-de-la-lengua-floja_valdealgorfa/
CATEGORIES:Pai
ATTACH;FMTTYPE=image/jpeg:https://pai.com.es/wp-content/uploads/2017/03/historiasdelalengua-pai-cartel.jpg
END:VEVENT
BEGIN:VEVENT
DTSTART;VALUE=DATE:20241108
DTEND;VALUE=DATE:20241111
DTSTAMP:20260421T182250
CREATED:20241029T220629Z
LAST-MODIFIED:20241029T221431Z
UID:23204-1731024000-1731283199@pai.com.es
SUMMARY:AVIVAVOZ_ Cívico Delicias
DESCRIPTION:
URL:https://pai.com.es/agenda-pai/avivavoz_-civico-delicias/
LOCATION:Centro Cívico Delicias
CATEGORIES:Cucú_Festival,Pai
ATTACH;FMTTYPE=image/jpeg:https://pai.com.es/wp-content/uploads/cartel-Instagram-1.jpg
END:VEVENT
BEGIN:VEVENT
DTSTART;TZID=Europe/Madrid:20241112T120000
DTEND;TZID=Europe/Madrid:20241112T133000
DTSTAMP:20260421T182250
CREATED:20241031T113726Z
LAST-MODIFIED:20241031T113726Z
UID:23220-1731412800-1731418200@pai.com.es
SUMMARY:Garbeo Cósmico_ Sala Venecia
DESCRIPTION:
URL:https://pai.com.es/agenda-pai/garbeo-cosmico_-sala-venecia/
CATEGORIES:Pai
ATTACH;FMTTYPE=image/jpeg:https://pai.com.es/wp-content/uploads/2019/01/GarbeoCosmico1.jpg
END:VEVENT
BEGIN:VEVENT
DTSTART;TZID=Europe/Madrid:20241113T120000
DTEND;TZID=Europe/Madrid:20241113T133000
DTSTAMP:20260421T182250
CREATED:20241031T113726Z
LAST-MODIFIED:20241031T113830Z
UID:23222-1731499200-1731504600@pai.com.es
SUMMARY:Artilogios_ Sala Venecia
DESCRIPTION:
URL:https://pai.com.es/agenda-pai/artilogios_-sala-venecia/
CATEGORIES:Pai
ATTACH;FMTTYPE=image/jpeg:https://pai.com.es/wp-content/uploads/2018/05/CartelArtilogios.jpg
END:VEVENT
BEGIN:VEVENT
DTSTART;TZID=Europe/Madrid:20241121T100000
DTEND;TZID=Europe/Madrid:20241121T120000
DTSTAMP:20260421T182250
CREATED:20241031T115114Z
LAST-MODIFIED:20241031T115114Z
UID:23224-1732183200-1732190400@pai.com.es
SUMMARY:Taller LAAB_Zaragoza
DESCRIPTION:
URL:https://pai.com.es/agenda-pai/taller-laab_zaragoza/
CATEGORIES:Pai
ATTACH;FMTTYPE=image/jpeg:https://pai.com.es/wp-content/uploads/IMG20230310175640-scaled.jpg
END:VEVENT
BEGIN:VEVENT
DTSTART;TZID=Europe/Madrid:20241122T110000
DTEND;TZID=Europe/Madrid:20241122T130000
DTSTAMP:20260421T182250
CREATED:20241031T115114Z
LAST-MODIFIED:20241031T115215Z
UID:23227-1732273200-1732280400@pai.com.es
SUMMARY:Taller LAAB_Gobierno de Aragón
DESCRIPTION:
URL:https://pai.com.es/agenda-pai/copia-de-taller-laab_zaragoza/
CATEGORIES:Pai
ATTACH;FMTTYPE=image/jpeg:https://pai.com.es/wp-content/uploads/IMG20230310175640-scaled.jpg
END:VEVENT
BEGIN:VEVENT
DTSTART;TZID=Europe/Madrid:20241126T100000
DTEND;TZID=Europe/Madrid:20241126T140000
DTSTAMP:20260421T182250
CREATED:20241031T115114Z
LAST-MODIFIED:20241031T115249Z
UID:23230-1732615200-1732629600@pai.com.es
SUMMARY:Taller LAAB_Utebo
DESCRIPTION:
URL:https://pai.com.es/agenda-pai/taller-laab_utebo/
CATEGORIES:Pai
ATTACH;FMTTYPE=image/jpeg:https://pai.com.es/wp-content/uploads/IMG20230310175640-scaled.jpg
END:VEVENT
BEGIN:VEVENT
DTSTART;TZID=Europe/Madrid:20241128T100000
DTEND;TZID=Europe/Madrid:20241128T140000
DTSTAMP:20260421T182250
CREATED:20241031T115114Z
LAST-MODIFIED:20241031T115313Z
UID:23232-1732788000-1732802400@pai.com.es
SUMMARY:Taller LAAB_Utebo
DESCRIPTION:
URL:https://pai.com.es/agenda-pai/taller-laab_utebo-2/
CATEGORIES:Pai
ATTACH;FMTTYPE=image/jpeg:https://pai.com.es/wp-content/uploads/IMG20230310175640-scaled.jpg
END:VEVENT
BEGIN:VEVENT
DTSTART;TZID=Europe/Madrid:20241128T100000
DTEND;TZID=Europe/Madrid:20241128T140000
DTSTAMP:20260421T182250
CREATED:20241031T115114Z
LAST-MODIFIED:20241031T115611Z
UID:23234-1732788000-1732802400@pai.com.es
SUMMARY:Taller LAAB_CRA La Cepa
DESCRIPTION:
URL:https://pai.com.es/agenda-pai/taller-laab_cra-la-cepa/
CATEGORIES:Pai
ATTACH;FMTTYPE=image/jpeg:https://pai.com.es/wp-content/uploads/IMG20230310175640-scaled.jpg
END:VEVENT
BEGIN:VEVENT
DTSTART;VALUE=DATE:20250114
DTEND;VALUE=DATE:20250115
DTSTAMP:20260421T182250
CREATED:20241031T113726Z
LAST-MODIFIED:20241031T123510Z
UID:23270-1736812800-1736899199@pai.com.es
SUMMARY:Garbeo Cósmico_ C.Josefinas
DESCRIPTION:
URL:https://pai.com.es/agenda-pai/garbeo-cosmico_-c-josefinas/
CATEGORIES:Pai
ATTACH;FMTTYPE=image/jpeg:https://pai.com.es/wp-content/uploads/2019/01/GarbeoCosmico1.jpg
END:VEVENT
BEGIN:VEVENT
DTSTART;VALUE=DATE:20250207
DTEND;VALUE=DATE:20250208
DTSTAMP:20260421T182250
CREATED:20241202T064248Z
LAST-MODIFIED:20241202T065214Z
UID:23329-1738886400-1738972799@pai.com.es
SUMMARY:Fiesta Stars_ Zaragoza (cc.Estación Norte)
DESCRIPTION:
URL:https://pai.com.es/agenda-pai/fiesta-stars_-zaragoza-cc-estacion-norte/
CATEGORIES:Espectáculos - Calle,Pai
END:VEVENT
BEGIN:VEVENT
DTSTART;TZID=Europe/Madrid:20250305T080000
DTEND;TZID=Europe/Madrid:20250305T170000
DTSTAMP:20260421T182250
CREATED:20250120T071345Z
LAST-MODIFIED:20250120T071345Z
UID:23403-1741161600-1741194000@pai.com.es
SUMMARY:Ferieta Pirata_Helios
DESCRIPTION:
URL:https://pai.com.es/agenda-pai/ferieta-pirata_helios/
CATEGORIES:Pai
ATTACH;FMTTYPE=image/png:https://pai.com.es/wp-content/uploads/FERIETA.png
END:VEVENT
END:VCALENDAR