BEGIN:VCALENDAR
VERSION:2.0
PRODID:-//PAI - ECPv6.15.11//NONSGML v1.0//EN
CALSCALE:GREGORIAN
METHOD:PUBLISH
X-WR-CALNAME:PAI
X-ORIGINAL-URL:https://pai.com.es
X-WR-CALDESC:Eventos para PAI
REFRESH-INTERVAL;VALUE=DURATION:PT1H
X-Robots-Tag:noindex
X-PUBLISHED-TTL:PT1H
BEGIN:VTIMEZONE
TZID:UTC
BEGIN:STANDARD
TZOFFSETFROM:+0000
TZOFFSETTO:+0000
TZNAME:UTC
DTSTART:20210101T000000
END:STANDARD
END:VTIMEZONE
BEGIN:VTIMEZONE
TZID:Europe/Madrid
BEGIN:DAYLIGHT
TZOFFSETFROM:+0100
TZOFFSETTO:+0200
TZNAME:CEST
DTSTART:20210328T010000
END:DAYLIGHT
BEGIN:STANDARD
TZOFFSETFROM:+0200
TZOFFSETTO:+0100
TZNAME:CET
DTSTART:20211031T010000
END:STANDARD
BEGIN:DAYLIGHT
TZOFFSETFROM:+0100
TZOFFSETTO:+0200
TZNAME:CEST
DTSTART:20220327T010000
END:DAYLIGHT
BEGIN:STANDARD
TZOFFSETFROM:+0200
TZOFFSETTO:+0100
TZNAME:CET
DTSTART:20221030T010000
END:STANDARD
BEGIN:DAYLIGHT
TZOFFSETFROM:+0100
TZOFFSETTO:+0200
TZNAME:CEST
DTSTART:20230326T010000
END:DAYLIGHT
BEGIN:STANDARD
TZOFFSETFROM:+0200
TZOFFSETTO:+0100
TZNAME:CET
DTSTART:20231029T010000
END:STANDARD
END:VTIMEZONE
BEGIN:VEVENT
DTSTART;VALUE=DATE:20220401
DTEND;VALUE=DATE:20220402
DTSTAMP:20260425T215836
CREATED:20210701T100047Z
LAST-MODIFIED:20210701T100047Z
UID:21189-1648771200-1648857599@pai.com.es
SUMMARY:Noche de Star Mirando • SAN ESTEBAN DE LITERA\, Huesca
DESCRIPTION:
URL:https://pai.com.es/agenda-pai/noche-de-star-mirando-san-esteban-de-litera-huesca-2/
CATEGORIES:Espectáculos - Calle,Pai,Taller
ATTACH;FMTTYPE=image/jpeg:https://pai.com.es/wp-content/uploads/STARMIRANDO.jpg
END:VEVENT
BEGIN:VEVENT
DTSTART;VALUE=DATE:20220401
DTEND;VALUE=DATE:20220402
DTSTAMP:20260425T215836
CREATED:20220330T164039Z
LAST-MODIFIED:20220330T164039Z
UID:21051-1648771200-1648857599@pai.com.es
SUMMARY:Evento APILA • ALAGÓN\, Zaragoza
DESCRIPTION:
URL:https://pai.com.es/agenda-pai/evento-apila-alagon-zaragoza/
CATEGORIES:Pai,Taller
END:VEVENT
BEGIN:VEVENT
DTSTART;VALUE=DATE:20220401
DTEND;VALUE=DATE:20220402
DTSTAMP:20260425T215836
CREATED:20220330T164039Z
LAST-MODIFIED:20220330T164318Z
UID:21053-1648771200-1648857599@pai.com.es
SUMMARY:Taller “Un desierto de papel” • CENTRO JOAQUÍN RONCAL\, Zaragoza\, Zaragoza
DESCRIPTION:
URL:https://pai.com.es/agenda-pai/taller-un-desierto-de-papel-centro-joaquin-roncal-zaragoza-zaragoza/
CATEGORIES:Pai,Taller
END:VEVENT
BEGIN:VEVENT
DTSTART;VALUE=DATE:20220406
DTEND;VALUE=DATE:20220407
DTSTAMP:20260425T215836
CREATED:20191108T104435Z
LAST-MODIFIED:20220330T165429Z
UID:21064-1649203200-1649289599@pai.com.es
SUMMARY:Talleres Anaya • EL BURGO DE OSMA\, Soria
DESCRIPTION:
URL:https://pai.com.es/agenda-pai/talleres-anaya-el-burgo-de-osma-soria/
CATEGORIES:Pai,Taller
ATTACH;FMTTYPE=image/jpeg:https://pai.com.es/wp-content/uploads/2017/04/talleres-pai-AquiHueleADragon-fotos-1.jpg
END:VEVENT
BEGIN:VEVENT
DTSTART;VALUE=DATE:20220419
DTEND;VALUE=DATE:20220420
DTSTAMP:20260425T215836
CREATED:20191108T104435Z
LAST-MODIFIED:20220330T165522Z
UID:21067-1650326400-1650412799@pai.com.es
SUMMARY:Talleres Anaya • ALFARO\, La Rioja
DESCRIPTION:
URL:https://pai.com.es/agenda-pai/talleres-anaya-el-burgo-de-osma-soria-2/
CATEGORIES:Pai,Taller
ATTACH;FMTTYPE=image/jpeg:https://pai.com.es/wp-content/uploads/2017/04/talleres-pai-AquiHueleADragon-fotos-1.jpg
END:VEVENT
BEGIN:VEVENT
DTSTART;VALUE=DATE:20220421
DTEND;VALUE=DATE:20220422
DTSTAMP:20260425T215836
CREATED:20190401T055947Z
LAST-MODIFIED:20220420T074737Z
UID:21173-1650499200-1650585599@pai.com.es
SUMMARY:Aquí huele a Dragón\, CEIP TOMÁS ALVIRA\, Zaragoza
DESCRIPTION:
URL:https://pai.com.es/agenda-pai/taller-aqui-huele-a-dragon-ceip-tomas-alvira-zaragoza/
CATEGORIES:Pai,Taller
ATTACH;FMTTYPE=image/jpeg:https://pai.com.es/wp-content/uploads/2017/04/talleres-pai-AquiHueleADragon-fotos-1.jpg
END:VEVENT
BEGIN:VEVENT
DTSTART;VALUE=DATE:20220426
DTEND;VALUE=DATE:20220427
DTSTAMP:20260425T215836
CREATED:20190401T055947Z
LAST-MODIFIED:20220420T075025Z
UID:21179-1650931200-1651017599@pai.com.es
SUMMARY:Aquí huele a Dragón\, CEIP CALIXTO ARIÑO\, Zaragoza
DESCRIPTION:
URL:https://pai.com.es/agenda-pai/aqui-huele-a-dragon-ceip-calixto-arino-zaragoza/
CATEGORIES:Pai,Taller
ATTACH;FMTTYPE=image/jpeg:https://pai.com.es/wp-content/uploads/2017/04/talleres-pai-AquiHueleADragon-fotos-1.jpg
END:VEVENT
BEGIN:VEVENT
DTSTART;VALUE=DATE:20220427
DTEND;VALUE=DATE:20220429
DTSTAMP:20260425T215836
CREATED:20220331T220047Z
LAST-MODIFIED:20220420T075904Z
UID:21182-1651017600-1651190399@pai.com.es
SUMMARY:Aquí huele a Dragón\, COLEGIO LA SALLE\, Zaragoza
DESCRIPTION:
URL:https://pai.com.es/agenda-pai/aqui-huele-a-dragon-colegio-la-salle-zaragoza/
CATEGORIES:Pai,Taller
ATTACH;FMTTYPE=image/jpeg:https://pai.com.es/wp-content/uploads/2017/04/talleres-pai-AquiHueleADragon-fotos-1.jpg
END:VEVENT
BEGIN:VEVENT
DTSTART;VALUE=DATE:20220429
DTEND;VALUE=DATE:20220430
DTSTAMP:20260425T215836
CREATED:20210701T100047Z
LAST-MODIFIED:20220420T080621Z
UID:21056-1651190400-1651276799@pai.com.es
SUMMARY:Noche de Star Mirando • SAN ESTEBAN DE LITERA\, Huesca
DESCRIPTION:
URL:https://pai.com.es/agenda-pai/noche-de-star-mirando-san-esteban-de-litera-huesca/
CATEGORIES:Espectáculos - Calle,Pai,Taller
ATTACH;FMTTYPE=image/jpeg:https://pai.com.es/wp-content/uploads/STARMIRANDO.jpg
END:VEVENT
BEGIN:VEVENT
DTSTART;VALUE=DATE:20220429
DTEND;VALUE=DATE:20220430
DTSTAMP:20260425T215836
CREATED:20220330T164039Z
LAST-MODIFIED:20220420T095930Z
UID:21117-1651190400-1651276799@pai.com.es
SUMMARY:Taller “Un desierto de papel” • CENTRO JOAQUÍN RONCAL\, Zaragoza
DESCRIPTION:
URL:https://pai.com.es/agenda-pai/taller-un-desierto-de-papel-centro-joaquin-roncal-zaragoza-zaragoza-2/
CATEGORIES:Pai,Taller
ATTACH;FMTTYPE=image/jpeg:https://pai.com.es/wp-content/uploads/DESIERTO_PAPEL.jpg
END:VEVENT
BEGIN:VEVENT
DTSTART;VALUE=DATE:20220429
DTEND;VALUE=DATE:20220430
DTSTAMP:20260425T215836
CREATED:20220331T220047Z
LAST-MODIFIED:20220420T080418Z
UID:21184-1651190400-1651276799@pai.com.es
SUMMARY:Aquí huele a Dragón\, COLEGIO AGUSTÍN GERICÓ\, Zaragoza
DESCRIPTION:
URL:https://pai.com.es/agenda-pai/aqui-huele-a-dragon-colegio-agustin-gerico-zaragoza/
CATEGORIES:Pai,Taller
ATTACH;FMTTYPE=image/jpeg:https://pai.com.es/wp-content/uploads/2017/04/talleres-pai-AquiHueleADragon-fotos-1.jpg
END:VEVENT
END:VCALENDAR