BEGIN:VCALENDAR
VERSION:2.0
PRODID:-//PAI - ECPv6.15.11//NONSGML v1.0//EN
CALSCALE:GREGORIAN
METHOD:PUBLISH
X-ORIGINAL-URL:https://pai.com.es
X-WR-CALDESC:Eventos para PAI
REFRESH-INTERVAL;VALUE=DURATION:PT1H
X-Robots-Tag:noindex
X-PUBLISHED-TTL:PT1H
BEGIN:VTIMEZONE
TZID:Europe/Madrid
BEGIN:DAYLIGHT
TZOFFSETFROM:+0100
TZOFFSETTO:+0200
TZNAME:CEST
DTSTART:20210328T010000
END:DAYLIGHT
BEGIN:STANDARD
TZOFFSETFROM:+0200
TZOFFSETTO:+0100
TZNAME:CET
DTSTART:20211031T010000
END:STANDARD
BEGIN:DAYLIGHT
TZOFFSETFROM:+0100
TZOFFSETTO:+0200
TZNAME:CEST
DTSTART:20220327T010000
END:DAYLIGHT
BEGIN:STANDARD
TZOFFSETFROM:+0200
TZOFFSETTO:+0100
TZNAME:CET
DTSTART:20221030T010000
END:STANDARD
BEGIN:DAYLIGHT
TZOFFSETFROM:+0100
TZOFFSETTO:+0200
TZNAME:CEST
DTSTART:20230326T010000
END:DAYLIGHT
BEGIN:STANDARD
TZOFFSETFROM:+0200
TZOFFSETTO:+0100
TZNAME:CET
DTSTART:20231029T010000
END:STANDARD
END:VTIMEZONE
BEGIN:VEVENT
DTSTART;VALUE=DATE:20220505
DTEND;VALUE=DATE:20220506
DTSTAMP:20260425T173117
CREATED:20220330T164039Z
LAST-MODIFIED:20220420T081059Z
UID:21194-1651708800-1651795199@pai.com.es
SUMMARY:Evento APILA • ALAGÓN\, Zaragoza
DESCRIPTION:
URL:https://pai.com.es/agenda-pai/evento-apila-alagon-zaragoza-2/
CATEGORIES:Pai,Taller
END:VEVENT
BEGIN:VEVENT
DTSTART;VALUE=DATE:20220513
DTEND;VALUE=DATE:20220514
DTSTAMP:20260425T173117
CREATED:20220331T220041Z
LAST-MODIFIED:20220420T081308Z
UID:21196-1652400000-1652486399@pai.com.es
SUMMARY:LAAAB • PEDROLA\, Zaragoza
DESCRIPTION:
URL:https://pai.com.es/agenda-pai/laaab-pedrola-zaragoza/
CATEGORIES:Pai,Taller
ATTACH;FMTTYPE=image/jpeg:https://pai.com.es/wp-content/uploads/LAAAB_HUESCA.jpg
END:VEVENT
BEGIN:VEVENT
DTSTART;VALUE=DATE:20220519
DTEND;VALUE=DATE:20220521
DTSTAMP:20260425T173117
CREATED:20220331T220047Z
LAST-MODIFIED:20220420T080058Z
UID:21186-1652918400-1653091199@pai.com.es
SUMMARY:Aquí huele a Dragón\, LAS ROZAS\, Madrid
DESCRIPTION:
URL:https://pai.com.es/agenda-pai/aqui-huele-a-dragon-las-rozas-madrid/
CATEGORIES:Pai,Taller
ATTACH;FMTTYPE=image/jpeg:https://pai.com.es/wp-content/uploads/2017/04/talleres-pai-AquiHueleADragon-fotos-1.jpg
END:VEVENT
BEGIN:VEVENT
DTSTART;VALUE=DATE:20220528
DTEND;VALUE=DATE:20220529
DTSTAMP:20260425T173117
CREATED:20210701T100047Z
LAST-MODIFIED:20220330T193648Z
UID:21159-1653696000-1653782399@pai.com.es
SUMMARY:Taller de Bichos de cartón • SARRIGUREN\, Navarra
DESCRIPTION:
URL:https://pai.com.es/agenda-pai/taller-de-bichos-de-carton-mau-zaragoza-2/
CATEGORIES:Pai,Taller
END:VEVENT
END:VCALENDAR