BEGIN:VCALENDAR
VERSION:2.0
PRODID:-//PAI - ECPv6.15.11//NONSGML v1.0//EN
CALSCALE:GREGORIAN
METHOD:PUBLISH
X-WR-CALNAME:PAI
X-ORIGINAL-URL:https://pai.com.es
X-WR-CALDESC:Eventos para PAI
REFRESH-INTERVAL;VALUE=DURATION:PT1H
X-Robots-Tag:noindex
X-PUBLISHED-TTL:PT1H
BEGIN:VTIMEZONE
TZID:Europe/Madrid
BEGIN:DAYLIGHT
TZOFFSETFROM:+0100
TZOFFSETTO:+0200
TZNAME:CEST
DTSTART:20230326T010000
END:DAYLIGHT
BEGIN:STANDARD
TZOFFSETFROM:+0200
TZOFFSETTO:+0100
TZNAME:CET
DTSTART:20231029T010000
END:STANDARD
BEGIN:DAYLIGHT
TZOFFSETFROM:+0100
TZOFFSETTO:+0200
TZNAME:CEST
DTSTART:20240331T010000
END:DAYLIGHT
BEGIN:STANDARD
TZOFFSETFROM:+0200
TZOFFSETTO:+0100
TZNAME:CET
DTSTART:20241027T010000
END:STANDARD
BEGIN:DAYLIGHT
TZOFFSETFROM:+0100
TZOFFSETTO:+0200
TZNAME:CEST
DTSTART:20250330T010000
END:DAYLIGHT
BEGIN:STANDARD
TZOFFSETFROM:+0200
TZOFFSETTO:+0100
TZNAME:CET
DTSTART:20251026T010000
END:STANDARD
END:VTIMEZONE
BEGIN:VEVENT
DTSTART;VALUE=DATE:20240914
DTEND;VALUE=DATE:20240917
DTSTAMP:20260421T223247
CREATED:20240822T144722Z
LAST-MODIFIED:20240822T150028Z
UID:22916-1726272000-1726531199@pai.com.es
SUMMARY:Ferieta de Juegos (Galdakao)
DESCRIPTION:
URL:https://pai.com.es/agenda-pai/ferieta-de-juegos-galdacano/
LOCATION:Cuarte\, Foro Romano\, Colegio Foro Romano\, Cuarte
CATEGORIES:Parques
ATTACH;FMTTYPE=image/png:https://pai.com.es/wp-content/uploads/FERIETA.png
END:VEVENT
BEGIN:VEVENT
DTSTART;TZID=Europe/Madrid:20240914T080000
DTEND;TZID=Europe/Madrid:20240914T170000
DTSTAMP:20260421T223247
CREATED:20240822T145817Z
LAST-MODIFIED:20240822T145817Z
UID:22922-1726300800-1726333200@pai.com.es
SUMMARY:Artilogios (Comarca Baja)
DESCRIPTION:
URL:https://pai.com.es/agenda-pai/artilogios-comarca-baja/
CATEGORIES:Espectáculos - Sala
ATTACH;FMTTYPE=image/jpeg:https://pai.com.es/wp-content/uploads/2018/05/Artilogios_9.jpg
END:VEVENT
BEGIN:VEVENT
DTSTART;TZID=Europe/Madrid:20240914T180000
DTEND;TZID=Europe/Madrid:20240914T193000
DTSTAMP:20260421T223247
CREATED:20240822T145451Z
LAST-MODIFIED:20240822T145451Z
UID:22919-1726336800-1726342200@pai.com.es
SUMMARY:Taller Bichos (San Gregorio)
DESCRIPTION:
URL:https://pai.com.es/agenda-pai/taller-bichos-san-gregorio/
CATEGORIES:Taller
ATTACH;FMTTYPE=image/jpeg:https://pai.com.es/wp-content/uploads/2017/02/talleres-BichosDeCarton-1-1.jpg
END:VEVENT
BEGIN:VEVENT
DTSTART;VALUE=DATE:20240918
DTEND;VALUE=DATE:20240919
DTSTAMP:20260421T223247
CREATED:20240822T150345Z
LAST-MODIFIED:20240822T150345Z
UID:22924-1726617600-1726703999@pai.com.es
SUMMARY:Pre_estreno "Soy El viento" (Valdefierro)
DESCRIPTION:
URL:https://pai.com.es/agenda-pai/pre_estreno-soy-el-viento-valdefierro/
CATEGORIES:Espectáculos - Sala
ATTACH;FMTTYPE=image/jpeg:https://pai.com.es/wp-content/uploads/2017/04/talleres-pai-Luciernagas-fotos-1.jpg
END:VEVENT
BEGIN:VEVENT
DTSTART;VALUE=DATE:20240920
DTEND;VALUE=DATE:20240922
DTSTAMP:20260421T223247
CREATED:20240829T112543Z
LAST-MODIFIED:20240829T112543Z
UID:22995-1726790400-1726963199@pai.com.es
SUMMARY:Taller Risoterapia (Hijar)
DESCRIPTION:
URL:https://pai.com.es/agenda-pai/taller-risoterapia-hijar/
END:VEVENT
BEGIN:VEVENT
DTSTART;TZID=Europe/Madrid:20240920T163000
DTEND;TZID=Europe/Madrid:20240920T193000
DTSTAMP:20260421T223247
CREATED:20240822T150602Z
LAST-MODIFIED:20240822T150602Z
UID:22926-1726849800-1726860600@pai.com.es
SUMMARY:Ferieta + 324 Juegos (Burlada)
DESCRIPTION:
URL:https://pai.com.es/agenda-pai/ferieta-324-juegos-burlada/
CATEGORIES:Espectáculos - Calle
ATTACH;FMTTYPE=image/jpeg:https://pai.com.es/wp-content/uploads/2020/02/espacios-pai-FerietaPirata-fotos-8.jpg
END:VEVENT
BEGIN:VEVENT
DTSTART;TZID=Europe/Madrid:20240921T000000
DTEND;TZID=Europe/Madrid:20240921T000000
DTSTAMP:20260421T223247
CREATED:20240822T151410Z
LAST-MODIFIED:20240822T151535Z
UID:22936-1726876800-1726876800@pai.com.es
SUMMARY:Garbeo (Comarca Baja)
DESCRIPTION:
URL:https://pai.com.es/agenda-pai/garbeo-comarca-baja-2/
ATTACH;FMTTYPE=image/jpeg:https://pai.com.es/wp-content/uploads/2Garbeo-Daroca-27-copia.jpg
END:VEVENT
BEGIN:VEVENT
DTSTART;TZID=Europe/Madrid:20240922T180000
DTEND;TZID=Europe/Madrid:20240922T193000
DTSTAMP:20260421T223247
CREATED:20240822T150703Z
LAST-MODIFIED:20240822T151254Z
UID:22929-1727028000-1727033400@pai.com.es
SUMMARY:El Puntazo (Zaragoza)
DESCRIPTION:
URL:https://pai.com.es/agenda-pai/garbeo-comarca-baja/
LOCATION:Jardin de las Artes\, Parque Deportivo Ebro\, Zaragoza
CATEGORIES:Espectáculos - Calle,Espectáculos - Sala
ATTACH;FMTTYPE=image/jpeg:https://pai.com.es/wp-content/uploads/event_TACAHAN_TEATRO.jpg
END:VEVENT
BEGIN:VEVENT
DTSTART;TZID=Europe/Madrid:20240926T173000
DTEND;TZID=Europe/Madrid:20240926T183000
DTSTAMP:20260421T223247
CREATED:20240822T151846Z
LAST-MODIFIED:20240829T112635Z
UID:22941-1727371800-1727375400@pai.com.es
SUMMARY:Lavando Voy (Santa Isabel)
DESCRIPTION:
URL:https://pai.com.es/agenda-pai/lavando-voy-zaragoza/
LOCATION:Plaza Serrano Berges\, Plaza Serrano Berges\, Zaragoza
CATEGORIES:Espectáculos - Calle
ATTACH;FMTTYPE=image/jpeg:https://pai.com.es/wp-content/uploads/2017/03/lavandovoy-pai-cartel.jpg
END:VEVENT
BEGIN:VEVENT
DTSTART;VALUE=DATE:20240927
DTEND;VALUE=DATE:20240929
DTSTAMP:20260421T223247
CREATED:20240822T152242Z
LAST-MODIFIED:20240829T112842Z
UID:22944-1727395200-1727567999@pai.com.es
SUMMARY:Estreno Señor Otín (Murillo de Gallego)
DESCRIPTION:
URL:https://pai.com.es/agenda-pai/estreno-senor-otin-zaragoza/
CATEGORIES:Espectáculos - Sala
ATTACH;FMTTYPE=image/jpeg:https://pai.com.es/wp-content/uploads/LPL_fondo-scaled.jpg
END:VEVENT
BEGIN:VEVENT
DTSTART;TZID=Europe/Madrid:20240929T113000
DTEND;TZID=Europe/Madrid:20240929T123000
DTSTAMP:20260421T223247
CREATED:20240822T152359Z
LAST-MODIFIED:20240822T152359Z
UID:22946-1727609400-1727613000@pai.com.es
SUMMARY:El Puntazo (Peñaflor)
DESCRIPTION:
URL:https://pai.com.es/agenda-pai/el-puntazo-penaflor/
ATTACH;FMTTYPE=image/jpeg:https://pai.com.es/wp-content/uploads/Cartel-EL-PUNTAZO-1.jpg
END:VEVENT
BEGIN:VEVENT
DTSTART;TZID=Europe/Madrid:20241006T113000
DTEND;TZID=Europe/Madrid:20241013T200000
DTSTAMP:20260421T223247
CREATED:20240822T152833Z
LAST-MODIFIED:20240822T152907Z
UID:22948-1728214200-1728849600@pai.com.es
SUMMARY:Río y Juego
DESCRIPTION:
URL:https://pai.com.es/agenda-pai/rio-y-juego/
CATEGORIES:Parques
ATTACH;FMTTYPE=image/png:https://pai.com.es/wp-content/uploads/2014/10/Rioyjuego-1.png
END:VEVENT
BEGIN:VEVENT
DTSTART;TZID=Europe/Madrid:20241018T100000
DTEND;TZID=Europe/Madrid:20241018T123000
DTSTAMP:20260421T223247
CREATED:20241025T090432Z
LAST-MODIFIED:20241025T090432Z
UID:23127-1729245600-1729254600@pai.com.es
SUMMARY:Galacho Juslibol con escolares
DESCRIPTION:
URL:https://pai.com.es/agenda-pai/galacho-juslibol-con-escolares/
CATEGORIES:Medio Ambiente
ATTACH;FMTTYPE=image/jpeg:https://pai.com.es/wp-content/uploads/2.jpg
END:VEVENT
BEGIN:VEVENT
DTSTART;VALUE=DATE:20241021
DTEND;VALUE=DATE:20241028
DTSTAMP:20260421T223247
CREATED:20240829T112954Z
LAST-MODIFIED:20240829T112954Z
UID:23000-1729468800-1730073599@pai.com.es
SUMMARY:Artilogios (Lanzarote)
DESCRIPTION:
URL:https://pai.com.es/agenda-pai/artilogios-lanzarote/
ATTACH;FMTTYPE=image/jpeg:https://pai.com.es/wp-content/uploads/2018/05/Artilogios_9.jpg
END:VEVENT
BEGIN:VEVENT
DTSTART;TZID=Europe/Madrid:20241021T100000
DTEND;TZID=Europe/Madrid:20241021T123000
DTSTAMP:20260421T223247
CREATED:20241025T090432Z
LAST-MODIFIED:20241025T090542Z
UID:23130-1729504800-1729513800@pai.com.es
SUMMARY:Galacho Juslibol con escolares
DESCRIPTION:
URL:https://pai.com.es/agenda-pai/galacho-juslibol-con-escolares-2/
CATEGORIES:Medio Ambiente
ATTACH;FMTTYPE=image/jpeg:https://pai.com.es/wp-content/uploads/2.jpg
END:VEVENT
BEGIN:VEVENT
DTSTART;TZID=Europe/Madrid:20241023T100000
DTEND;TZID=Europe/Madrid:20241023T123000
DTSTAMP:20260421T223247
CREATED:20241025T090432Z
LAST-MODIFIED:20241025T090608Z
UID:23132-1729677600-1729686600@pai.com.es
SUMMARY:Galacho Juslibol con escolares
DESCRIPTION:
URL:https://pai.com.es/agenda-pai/galacho-juslibol-con-escolares-3/
CATEGORIES:Medio Ambiente
ATTACH;FMTTYPE=image/jpeg:https://pai.com.es/wp-content/uploads/2.jpg
END:VEVENT
BEGIN:VEVENT
DTSTART;TZID=Europe/Madrid:20241028T100000
DTEND;TZID=Europe/Madrid:20241028T123000
DTSTAMP:20260421T223247
CREATED:20241025T090432Z
LAST-MODIFIED:20241025T090903Z
UID:23135-1730109600-1730118600@pai.com.es
SUMMARY:Galacho Juslibol con escolares
DESCRIPTION:
URL:https://pai.com.es/agenda-pai/galacho-juslibol-con-escolares-4/
CATEGORIES:Medio Ambiente
ATTACH;FMTTYPE=image/jpeg:https://pai.com.es/wp-content/uploads/7.jpg
END:VEVENT
BEGIN:VEVENT
DTSTART;VALUE=DATE:20241029
DTEND;VALUE=DATE:20241030
DTSTAMP:20260421T223247
CREATED:20241029T165557Z
LAST-MODIFIED:20241029T165557Z
UID:23162-1730160000-1730246399@pai.com.es
SUMMARY:Cuentos Colorados_ Alcañiz
DESCRIPTION:
URL:https://pai.com.es/agenda-pai/cuentos-colorados_-alcaniz/
ATTACH;FMTTYPE=image/jpeg:https://pai.com.es/wp-content/uploads/2017/03/cuentoscolorados-pai-cartel.jpg
END:VEVENT
BEGIN:VEVENT
DTSTART;TZID=Europe/Madrid:20241030T100000
DTEND;TZID=Europe/Madrid:20241030T123000
DTSTAMP:20260421T223247
CREATED:20241025T090432Z
LAST-MODIFIED:20241025T090931Z
UID:23137-1730282400-1730291400@pai.com.es
SUMMARY:Galacho Juslibol con escolares
DESCRIPTION:
URL:https://pai.com.es/agenda-pai/galacho-juslibol-con-escolares-5/
CATEGORIES:Medio Ambiente
ATTACH;FMTTYPE=image/jpeg:https://pai.com.es/wp-content/uploads/7.jpg
END:VEVENT
BEGIN:VEVENT
DTSTART;TZID=Europe/Madrid:20241030T100000
DTEND;TZID=Europe/Madrid:20241031T140000
DTSTAMP:20260421T223247
CREATED:20241029T165828Z
LAST-MODIFIED:20241029T165859Z
UID:23164-1730282400-1730383200@pai.com.es
SUMMARY:Taller Dragones y Literomáquina_ Biblioteca Oliver
DESCRIPTION:
URL:https://pai.com.es/agenda-pai/taller-dragones-y-literomaquina_-biblioteca-oliver/
ATTACH;FMTTYPE=image/jpeg:https://pai.com.es/wp-content/uploads/2017/04/talleres-pai-Literomaquina-cartel.jpg
END:VEVENT
BEGIN:VEVENT
DTSTART;VALUE=DATE:20241102
DTEND;VALUE=DATE:20241104
DTSTAMP:20260421T223247
CREATED:20241029T173125Z
LAST-MODIFIED:20241029T173258Z
UID:23153-1730505600-1730678399@pai.com.es
SUMMARY:"Al Agua Pato" espectáculo_Valdefierro
DESCRIPTION:
URL:https://pai.com.es/agenda-pai/al-agua-pato-cucu_espectaculo/
ATTACH;FMTTYPE=image/png:https://pai.com.es/wp-content/uploads/CUCU_FRONT.png
END:VEVENT
BEGIN:VEVENT
DTSTART;TZID=Europe/Madrid:20241102T120000
DTEND;TZID=Europe/Madrid:20241102T140000
DTSTAMP:20260421T223247
CREATED:20241029T172404Z
LAST-MODIFIED:20241029T172438Z
UID:23169-1730548800-1730556000@pai.com.es
SUMMARY:Linterna Mágica_ Sesión 2_Estación Norte
DESCRIPTION:
URL:https://pai.com.es/agenda-pai/linterna-magica_-sesion-2_estacion-norte/
ATTACH;FMTTYPE=image/png:https://pai.com.es/wp-content/uploads/matilda.png
END:VEVENT
BEGIN:VEVENT
DTSTART;VALUE=DATE:20241104
DTEND;VALUE=DATE:20241105
DTSTAMP:20260421T223247
CREATED:20241031T113317Z
LAST-MODIFIED:20241031T113317Z
UID:23218-1730678400-1730764799@pai.com.es
SUMMARY:Historias de la lengua Floja_Valdealgorfa
DESCRIPTION:
URL:https://pai.com.es/agenda-pai/historias-de-la-lengua-floja_valdealgorfa/
CATEGORIES:Pai
ATTACH;FMTTYPE=image/jpeg:https://pai.com.es/wp-content/uploads/2017/03/historiasdelalengua-pai-cartel.jpg
END:VEVENT
BEGIN:VEVENT
DTSTART;TZID=Europe/Madrid:20241104T100000
DTEND;TZID=Europe/Madrid:20241104T123000
DTSTAMP:20260421T223247
CREATED:20241025T090432Z
LAST-MODIFIED:20241025T091029Z
UID:23139-1730714400-1730723400@pai.com.es
SUMMARY:Galacho Juslibol con escolares
DESCRIPTION:
URL:https://pai.com.es/agenda-pai/galacho-juslibol-con-escolares-6/
CATEGORIES:Medio Ambiente
ATTACH;FMTTYPE=image/jpeg:https://pai.com.es/wp-content/uploads/7.jpg
END:VEVENT
BEGIN:VEVENT
DTSTART;VALUE=DATE:20241105
DTEND;VALUE=DATE:20241109
DTSTAMP:20260421T223247
CREATED:20241029T173548Z
LAST-MODIFIED:20241029T173937Z
UID:23178-1730764800-1731110399@pai.com.es
SUMMARY:Taller Cucú_ Valdefierro
DESCRIPTION:
URL:https://pai.com.es/agenda-pai/taller-cucu_-valdefierro/
CATEGORIES:Cucú_Festival
ATTACH;FMTTYPE=image/jpeg:https://pai.com.es/wp-content/uploads/folleto-Cucu-20242.jpg
END:VEVENT
BEGIN:VEVENT
DTSTART;VALUE=DATE:20241105
DTEND;VALUE=DATE:20241109
DTSTAMP:20260421T223247
CREATED:20241029T173548Z
LAST-MODIFIED:20241029T173851Z
UID:23180-1730764800-1731110399@pai.com.es
SUMMARY:Sala de Juego Cucú_ Valdefierro
DESCRIPTION:
URL:https://pai.com.es/agenda-pai/sala-de-juego-cucu_-valdefierro/
LOCATION:centro cívico Valdefierro
CATEGORIES:Cucú_Festival
ATTACH;FMTTYPE=image/jpeg:https://pai.com.es/wp-content/uploads/folleto-Cucu-2024.jpg
END:VEVENT
BEGIN:VEVENT
DTSTART;TZID=Europe/Madrid:20241106T100000
DTEND;TZID=Europe/Madrid:20241106T123000
DTSTAMP:20260421T223247
CREATED:20241025T090432Z
LAST-MODIFIED:20241025T091113Z
UID:23141-1730887200-1730896200@pai.com.es
SUMMARY:Galacho Juslibol con escolares
DESCRIPTION:
URL:https://pai.com.es/agenda-pai/galacho-juslibol-con-escolares-7/
CATEGORIES:Medio Ambiente
ATTACH;FMTTYPE=image/jpeg:https://pai.com.es/wp-content/uploads/7.jpg
END:VEVENT
BEGIN:VEVENT
DTSTART;VALUE=DATE:20241108
DTEND;VALUE=DATE:20241111
DTSTAMP:20260421T223247
CREATED:20241029T220629Z
LAST-MODIFIED:20241029T221431Z
UID:23204-1731024000-1731283199@pai.com.es
SUMMARY:AVIVAVOZ_ Cívico Delicias
DESCRIPTION:
URL:https://pai.com.es/agenda-pai/avivavoz_-civico-delicias/
LOCATION:Centro Cívico Delicias
CATEGORIES:Cucú_Festival,Pai
ATTACH;FMTTYPE=image/jpeg:https://pai.com.es/wp-content/uploads/cartel-Instagram-1.jpg
END:VEVENT
BEGIN:VEVENT
DTSTART;TZID=Europe/Madrid:20241108T100000
DTEND;TZID=Europe/Madrid:20241108T123000
DTSTAMP:20260421T223247
CREATED:20241025T090432Z
LAST-MODIFIED:20241025T091540Z
UID:23143-1731060000-1731069000@pai.com.es
SUMMARY:Galacho Juslibol con escolares
DESCRIPTION:
URL:https://pai.com.es/agenda-pai/galacho-juslibol-con-escolares-8/
CATEGORIES:Medio Ambiente
ATTACH;FMTTYPE=image/jpeg:https://pai.com.es/wp-content/uploads/7.jpg
END:VEVENT
BEGIN:VEVENT
DTSTART;VALUE=DATE:20241109
DTEND;VALUE=DATE:20241111
DTSTAMP:20260421T223247
CREATED:20241029T220629Z
LAST-MODIFIED:20241029T221535Z
UID:23199-1731110400-1731283199@pai.com.es
SUMMARY:"Soy el viento" _Espectáculo_Valdefierro
DESCRIPTION:
URL:https://pai.com.es/agenda-pai/soy-el-viento-_espectaculo_valdefierro/
LOCATION:centro cívico Valdefierro
CATEGORIES:Cucú_Festival
ATTACH;FMTTYPE=image/jpeg:https://pai.com.es/wp-content/uploads/DSCF0953-scaled.jpg
END:VEVENT
END:VCALENDAR