BEGIN:VCALENDAR
VERSION:2.0
PRODID:-//PAI - ECPv6.15.11//NONSGML v1.0//EN
CALSCALE:GREGORIAN
METHOD:PUBLISH
X-WR-CALNAME:PAI
X-ORIGINAL-URL:https://pai.com.es
X-WR-CALDESC:Eventos para PAI
REFRESH-INTERVAL;VALUE=DURATION:PT1H
X-Robots-Tag:noindex
X-PUBLISHED-TTL:PT1H
BEGIN:VTIMEZONE
TZID:Europe/Madrid
BEGIN:DAYLIGHT
TZOFFSETFROM:+0100
TZOFFSETTO:+0200
TZNAME:CEST
DTSTART:20230326T010000
END:DAYLIGHT
BEGIN:STANDARD
TZOFFSETFROM:+0200
TZOFFSETTO:+0100
TZNAME:CET
DTSTART:20231029T010000
END:STANDARD
BEGIN:DAYLIGHT
TZOFFSETFROM:+0100
TZOFFSETTO:+0200
TZNAME:CEST
DTSTART:20240331T010000
END:DAYLIGHT
BEGIN:STANDARD
TZOFFSETFROM:+0200
TZOFFSETTO:+0100
TZNAME:CET
DTSTART:20241027T010000
END:STANDARD
BEGIN:DAYLIGHT
TZOFFSETFROM:+0100
TZOFFSETTO:+0200
TZNAME:CEST
DTSTART:20250330T010000
END:DAYLIGHT
BEGIN:STANDARD
TZOFFSETFROM:+0200
TZOFFSETTO:+0100
TZNAME:CET
DTSTART:20251026T010000
END:STANDARD
BEGIN:DAYLIGHT
TZOFFSETFROM:+0100
TZOFFSETTO:+0200
TZNAME:CEST
DTSTART:20260329T010000
END:DAYLIGHT
BEGIN:STANDARD
TZOFFSETFROM:+0200
TZOFFSETTO:+0100
TZNAME:CET
DTSTART:20261025T010000
END:STANDARD
END:VTIMEZONE
BEGIN:VEVENT
DTSTART;VALUE=DATE:20241126
DTEND;VALUE=DATE:20241201
DTSTAMP:20260422T012821
CREATED:20241029T173548Z
LAST-MODIFIED:20241029T204445Z
UID:23190-1732579200-1733011199@pai.com.es
SUMMARY:Sala de Juego Cucú_ Río Ebro
DESCRIPTION:
URL:https://pai.com.es/agenda-pai/sala-de-juego-cucu_-rio-ebro/
LOCATION:centro cívico Valdefierro
CATEGORIES:Cucú_Festival
ATTACH;FMTTYPE=image/jpeg:https://pai.com.es/wp-content/uploads/folleto-Cucu-2024.jpg
END:VEVENT
BEGIN:VEVENT
DTSTART;VALUE=DATE:20241126
DTEND;VALUE=DATE:20241130
DTSTAMP:20260422T012821
CREATED:20241029T173548Z
LAST-MODIFIED:20241029T204521Z
UID:23192-1732579200-1732924799@pai.com.es
SUMMARY:Sala de Juego Cucú_ Rosales
DESCRIPTION:
URL:https://pai.com.es/agenda-pai/sala-de-juego-cucu_-rosales/
LOCATION:centro cívico Valdefierro
CATEGORIES:Cucú_Festival
ATTACH;FMTTYPE=image/jpeg:https://pai.com.es/wp-content/uploads/folleto-Cucu-2024.jpg
END:VEVENT
BEGIN:VEVENT
DTSTART;VALUE=DATE:20241126
DTEND;VALUE=DATE:20241130
DTSTAMP:20260422T012821
CREATED:20241029T173548Z
LAST-MODIFIED:20241029T204606Z
UID:23194-1732579200-1732924799@pai.com.es
SUMMARY:Taller Cucú_ Rosales
DESCRIPTION:
URL:https://pai.com.es/agenda-pai/taller-cucu_-rosales/
CATEGORIES:Cucú_Festival
ATTACH;FMTTYPE=image/jpeg:https://pai.com.es/wp-content/uploads/folleto-Cucu-20242.jpg
END:VEVENT
BEGIN:VEVENT
DTSTART;TZID=Europe/Madrid:20241128T100000
DTEND;TZID=Europe/Madrid:20241128T140000
DTSTAMP:20260422T012821
CREATED:20241031T115114Z
LAST-MODIFIED:20241031T115313Z
UID:23232-1732788000-1732802400@pai.com.es
SUMMARY:Taller LAAB_Utebo
DESCRIPTION:
URL:https://pai.com.es/agenda-pai/taller-laab_utebo-2/
CATEGORIES:Pai
ATTACH;FMTTYPE=image/jpeg:https://pai.com.es/wp-content/uploads/IMG20230310175640-scaled.jpg
END:VEVENT
BEGIN:VEVENT
DTSTART;TZID=Europe/Madrid:20241128T100000
DTEND;TZID=Europe/Madrid:20241128T140000
DTSTAMP:20260422T012822
CREATED:20241031T115114Z
LAST-MODIFIED:20241031T115611Z
UID:23234-1732788000-1732802400@pai.com.es
SUMMARY:Taller LAAB_CRA La Cepa
DESCRIPTION:
URL:https://pai.com.es/agenda-pai/taller-laab_cra-la-cepa/
CATEGORIES:Pai
ATTACH;FMTTYPE=image/jpeg:https://pai.com.es/wp-content/uploads/IMG20230310175640-scaled.jpg
END:VEVENT
BEGIN:VEVENT
DTSTART;VALUE=DATE:20241201
DTEND;VALUE=DATE:20241202
DTSTAMP:20260422T012822
CREATED:20241031T120619Z
LAST-MODIFIED:20241031T120619Z
UID:23237-1733011200-1733097599@pai.com.es
SUMMARY:Sala de Juego_ Cucú_ Río Ebro
DESCRIPTION:
URL:https://pai.com.es/agenda-pai/sala-de-juego_-cucu_-rio-ebro/
CATEGORIES:Cucú_Festival
ATTACH;FMTTYPE=image/jpeg:https://pai.com.es/wp-content/uploads/CUCU-5.jpg
END:VEVENT
BEGIN:VEVENT
DTSTART;VALUE=DATE:20241204
DTEND;VALUE=DATE:20241205
DTSTAMP:20260422T012822
CREATED:20241031T120748Z
LAST-MODIFIED:20241031T120748Z
UID:23239-1733270400-1733356799@pai.com.es
SUMMARY:Gala Ciudad Educadora_ Sala LUIS GALVE
DESCRIPTION:
URL:https://pai.com.es/agenda-pai/gala-ciudad-educadora_-sala-luis-galve/
END:VEVENT
BEGIN:VEVENT
DTSTART;VALUE=DATE:20241209
DTEND;VALUE=DATE:20241211
DTSTAMP:20260422T012822
CREATED:20241029T220629Z
LAST-MODIFIED:20241031T120846Z
UID:23241-1733702400-1733875199@pai.com.es
SUMMARY:"Soy el viento" _Burlada
DESCRIPTION:
URL:https://pai.com.es/agenda-pai/soy-el-viento-_burlada/
LOCATION:centro cívico Valdefierro
CATEGORIES:Cucú_Festival
ATTACH;FMTTYPE=image/jpeg:https://pai.com.es/wp-content/uploads/DSCF1057-scaled.jpg
END:VEVENT
BEGIN:VEVENT
DTSTART;TZID=Europe/Madrid:20241212T200000
DTEND;TZID=Europe/Madrid:20241215T190000
DTSTAMP:20260422T012822
CREATED:20241201T202152Z
LAST-MODIFIED:20241202T070302Z
UID:23289-1734033600-1734289200@pai.com.es
SUMMARY:Sr.Otín y Srta.Ton_Madrid
DESCRIPTION:
URL:https://pai.com.es/agenda-pai/sr-otin-y-srta-ton_madrid/
CATEGORIES:Espectáculos - Sala
ATTACH;FMTTYPE=image/jpeg:https://pai.com.es/wp-content/uploads/20240924_152812-COLLAGE.jpg
END:VEVENT
BEGIN:VEVENT
DTSTART;VALUE=DATE:20241216
DTEND;VALUE=DATE:20241217
DTSTAMP:20260422T012822
CREATED:20241201T210542Z
LAST-MODIFIED:20241202T070433Z
UID:23309-1734307200-1734393599@pai.com.es
SUMMARY:Taller_Como pájaros Libres_ Zaragoza
DESCRIPTION:
URL:https://pai.com.es/agenda-pai/como-pajaros-libres_-zaragoza/
CATEGORIES:Taller
ATTACH;FMTTYPE=image/jpeg:https://pai.com.es/wp-content/uploads/Captura-de-pantalla-2024-12-01-220422.jpg
END:VEVENT
BEGIN:VEVENT
DTSTART;VALUE=DATE:20241220
DTEND;VALUE=DATE:20241221
DTSTAMP:20260422T012822
CREATED:20241031T121106Z
LAST-MODIFIED:20241031T121106Z
UID:23243-1734652800-1734739199@pai.com.es
SUMMARY:Taller circuitos_MAU
DESCRIPTION:
URL:https://pai.com.es/agenda-pai/taller-circuitos_mau/
ATTACH;FMTTYPE=image/jpeg:https://pai.com.es/wp-content/uploads/IMG_20220629_133819-scaled.jpg
END:VEVENT
BEGIN:VEVENT
DTSTART;VALUE=DATE:20241221
DTEND;VALUE=DATE:20241222
DTSTAMP:20260422T012822
CREATED:20241031T121415Z
LAST-MODIFIED:20241031T121451Z
UID:23246-1734739200-1734825599@pai.com.es
SUMMARY:Linterna Mágica_ Sesión 3_ Estación Norte
DESCRIPTION:
URL:https://pai.com.es/agenda-pai/linterna-magica_-zaragoza/
ATTACH;FMTTYPE=image/jpeg:https://pai.com.es/wp-content/uploads/LM-POST-QUE-ES.jpg
END:VEVENT
BEGIN:VEVENT
DTSTART;VALUE=DATE:20241222
DTEND;VALUE=DATE:20241223
DTSTAMP:20260422T012822
CREATED:20241031T121415Z
LAST-MODIFIED:20241031T121536Z
UID:23250-1734825600-1734911999@pai.com.es
SUMMARY:Linterna Mágica_ Sesión 3_ Teodoro Sánchez Punter
DESCRIPTION:
URL:https://pai.com.es/agenda-pai/linterna-magica_-sesion-3_-teodoro-sanchez-gunter/
ATTACH;FMTTYPE=image/jpeg:https://pai.com.es/wp-content/uploads/LM-POST-QUE-ES.jpg
END:VEVENT
BEGIN:VEVENT
DTSTART;VALUE=DATE:20241226
DTEND;VALUE=DATE:20241229
DTSTAMP:20260422T012822
CREATED:20241031T121928Z
LAST-MODIFIED:20241031T121928Z
UID:23253-1735171200-1735430399@pai.com.es
SUMMARY:Espacio Bebé_Guirigay_ Huesca
DESCRIPTION:
URL:https://pai.com.es/agenda-pai/espacio-bebe_guirigay_-huesca/
ATTACH;FMTTYPE=image/jpeg:https://pai.com.es/wp-content/uploads/2017/01/EspacioBebe-foto-1-e1747895877709.jpg
END:VEVENT
BEGIN:VEVENT
DTSTART;VALUE=DATE:20241227
DTEND;VALUE=DATE:20241228
DTSTAMP:20260422T012822
CREATED:20241201T210822Z
LAST-MODIFIED:20241201T210822Z
UID:23312-1735257600-1735343999@pai.com.es
SUMMARY:Gala Payasos por la Dana_Teodoro Sánchez Punter
DESCRIPTION:
URL:https://pai.com.es/agenda-pai/gala-payasos-por-la-dana_teodoro-sanchez-punter/
CATEGORIES:Espectáculos - Sala
END:VEVENT
BEGIN:VEVENT
DTSTART;TZID=Europe/Madrid:20241228T180000
DTEND;TZID=Europe/Madrid:20241228T190000
DTSTAMP:20260422T012822
CREATED:20241201T210944Z
LAST-MODIFIED:20241201T210944Z
UID:23314-1735408800-1735412400@pai.com.es
SUMMARY:El Puntazo_ Casetas
DESCRIPTION:
URL:https://pai.com.es/agenda-pai/el-puntazo_-casetas/
CATEGORIES:Espectáculos - Sala
ATTACH;FMTTYPE=image/jpeg:https://pai.com.es/wp-content/uploads/destacada-1.jpg
END:VEVENT
BEGIN:VEVENT
DTSTART;VALUE=DATE:20241229
DTEND;VALUE=DATE:20241230
DTSTAMP:20260422T012822
CREATED:20241031T122912Z
LAST-MODIFIED:20241031T122912Z
UID:23258-1735430400-1735516799@pai.com.es
SUMMARY:Pequeña Linterna_CC Río Ebro
DESCRIPTION:
URL:https://pai.com.es/agenda-pai/pequena-linterna_cc-rio-ebro/
ATTACH;FMTTYPE=image/jpeg:https://pai.com.es/wp-content/uploads/PL-POST-DIFERENCIA.jpg
END:VEVENT
BEGIN:VEVENT
DTSTART;VALUE=DATE:20241229
DTEND;VALUE=DATE:20241230
DTSTAMP:20260422T012822
CREATED:20241201T211516Z
LAST-MODIFIED:20241201T212200Z
UID:23316-1735430400-1735516799@pai.com.es
SUMMARY:Muévete con los Campanos_ Jaca
DESCRIPTION:
URL:https://pai.com.es/agenda-pai/muevete-con-los-campanos_-jaca/
CATEGORIES:Espectáculos - Calle
ATTACH;FMTTYPE=image/jpeg:https://pai.com.es/wp-content/uploads/PAI_LosCampanos_SanValero2023_FotosMaiIbarguen_74-scaled.jpg
END:VEVENT
BEGIN:VEVENT
DTSTART;VALUE=DATE:20241230
DTEND;VALUE=DATE:20241231
DTSTAMP:20260422T012822
CREATED:20241029T220629Z
LAST-MODIFIED:20241031T122111Z
UID:23255-1735516800-1735603199@pai.com.es
SUMMARY:"Soy el viento" _ Sarigurren
DESCRIPTION:
URL:https://pai.com.es/agenda-pai/soy-el-viento-_cc-rio-ebro/
LOCATION:centro cívico Valdefierro
CATEGORIES:Cucú_Festival
ATTACH;FMTTYPE=image/jpeg:https://pai.com.es/wp-content/uploads/DSCF1057-scaled.jpg
END:VEVENT
BEGIN:VEVENT
DTSTART;TZID=Europe/Madrid:20241231T110000
DTEND;TZID=Europe/Madrid:20241231T123000
DTSTAMP:20260422T012822
CREATED:20241201T211516Z
LAST-MODIFIED:20241201T211640Z
UID:23318-1735642800-1735648200@pai.com.es
SUMMARY:Muévete con los Campanos_ Huesca
DESCRIPTION:
URL:https://pai.com.es/agenda-pai/muevete-con-los-campanos_-huesca/
CATEGORIES:Espectáculos - Calle
ATTACH;FMTTYPE=image/jpeg:https://pai.com.es/wp-content/uploads/PAI_LosCampanos_SanValero2023_FotosMaiIbarguen_41-scaled.jpg
END:VEVENT
BEGIN:VEVENT
DTSTART;VALUE=DATE:20250102
DTEND;VALUE=DATE:20250105
DTSTAMP:20260422T012822
CREATED:20241031T123100Z
LAST-MODIFIED:20241031T123100Z
UID:23261-1735776000-1736035199@pai.com.es
SUMMARY:Ferieta de Juegos_ Fraga
DESCRIPTION:
URL:https://pai.com.es/agenda-pai/ferieta-de-juegos_-fraga/
CATEGORIES:Parques
ATTACH;FMTTYPE=image/jpeg:https://pai.com.es/wp-content/uploads/2020/02/espacios-pai-FerietaPirata-fotos-10.jpg
END:VEVENT
BEGIN:VEVENT
DTSTART;VALUE=DATE:20250103
DTEND;VALUE=DATE:20250104
DTSTAMP:20260422T012822
CREATED:20241201T211516Z
LAST-MODIFIED:20241201T212053Z
UID:23320-1735862400-1735948799@pai.com.es
SUMMARY:Muévete con los Campanos_Villamayor
DESCRIPTION:
URL:https://pai.com.es/agenda-pai/muevete-con-los-campanos_villamayor/
CATEGORIES:Espectáculos - Calle
ATTACH;FMTTYPE=image/jpeg:https://pai.com.es/wp-content/uploads/PAI_LosCampanos_SanValero2023_FotosMaiIbarguen_41-scaled.jpg
END:VEVENT
BEGIN:VEVENT
DTSTART;VALUE=DATE:20250104
DTEND;VALUE=DATE:20250105
DTSTAMP:20260422T012822
CREATED:20241201T212337Z
LAST-MODIFIED:20241201T212337Z
UID:23322-1735948800-1736035199@pai.com.es
SUMMARY:Cuentos Colorados_ Zuera
DESCRIPTION:
URL:https://pai.com.es/agenda-pai/cuentos-colorados_-zuera/
ATTACH;FMTTYPE=image/png:https://pai.com.es/wp-content/uploads/2017/03/cuentoscolorados-pai-foto-04.png
END:VEVENT
BEGIN:VEVENT
DTSTART;VALUE=DATE:20250105
DTEND;VALUE=DATE:20250106
DTSTAMP:20260422T012822
CREATED:20241031T123136Z
LAST-MODIFIED:20241031T123136Z
UID:23263-1736035200-1736121599@pai.com.es
SUMMARY:Cabalgata Reyes_ Zaragoza
DESCRIPTION:
URL:https://pai.com.es/agenda-pai/cabalgata-reyes_-zaragoza/
END:VEVENT
BEGIN:VEVENT
DTSTART;VALUE=DATE:20250111
DTEND;VALUE=DATE:20250112
DTSTAMP:20260422T012822
CREATED:20241031T121415Z
LAST-MODIFIED:20241031T123224Z
UID:23265-1736553600-1736639999@pai.com.es
SUMMARY:Linterna Mágica_ Sesión 4_ Estación Norte
DESCRIPTION:
URL:https://pai.com.es/agenda-pai/linterna-magica_-sesion-4_-estacion-norte/
ATTACH;FMTTYPE=image/jpeg:https://pai.com.es/wp-content/uploads/LM-POST-QUE-ES.jpg
END:VEVENT
BEGIN:VEVENT
DTSTART;VALUE=DATE:20250112
DTEND;VALUE=DATE:20250113
DTSTAMP:20260422T012822
CREATED:20241031T121415Z
LAST-MODIFIED:20241031T123342Z
UID:23267-1736640000-1736726399@pai.com.es
SUMMARY:Linterna Mágica_ Sesión 4_ Teodoro Sánchez Punter
DESCRIPTION:
URL:https://pai.com.es/agenda-pai/linterna-magica_-sesion-4_-teodoro-sanchez-punter/
ATTACH;FMTTYPE=image/jpeg:https://pai.com.es/wp-content/uploads/LM-POST-QUE-ES.jpg
END:VEVENT
BEGIN:VEVENT
DTSTART;VALUE=DATE:20250114
DTEND;VALUE=DATE:20250115
DTSTAMP:20260422T012822
CREATED:20241031T113726Z
LAST-MODIFIED:20241031T123510Z
UID:23270-1736812800-1736899199@pai.com.es
SUMMARY:Garbeo Cósmico_ C.Josefinas
DESCRIPTION:
URL:https://pai.com.es/agenda-pai/garbeo-cosmico_-c-josefinas/
CATEGORIES:Pai
ATTACH;FMTTYPE=image/jpeg:https://pai.com.es/wp-content/uploads/2019/01/GarbeoCosmico1.jpg
END:VEVENT
BEGIN:VEVENT
DTSTART;VALUE=DATE:20250115
DTEND;VALUE=DATE:20250118
DTSTAMP:20260422T012822
CREATED:20241201T212337Z
LAST-MODIFIED:20241201T212659Z
UID:23324-1736899200-1737158399@pai.com.es
SUMMARY:Artilogios_ Pamplona
DESCRIPTION:
URL:https://pai.com.es/agenda-pai/artilogios_-pamplona/
END:VEVENT
BEGIN:VEVENT
DTSTART;TZID=Europe/Madrid:20250118T180000
DTEND;TZID=Europe/Madrid:20250118T200000
DTSTAMP:20260422T012822
CREATED:20250120T065220Z
LAST-MODIFIED:20250120T065220Z
UID:23381-1737223200-1737230400@pai.com.es
SUMMARY:Cuentos por la Dana_ Estación Norte
DESCRIPTION:
URL:https://pai.com.es/agenda-pai/cuentos-por-la-dana_-estacion-norte/
END:VEVENT
BEGIN:VEVENT
DTSTART;VALUE=DATE:20250119
DTEND;VALUE=DATE:20250120
DTSTAMP:20260422T012822
CREATED:20241031T122912Z
LAST-MODIFIED:20241031T123812Z
UID:23272-1737244800-1737331199@pai.com.es
SUMMARY:Pequeña Linterna_CC Río Ebro
DESCRIPTION:
URL:https://pai.com.es/agenda-pai/copia-de-pequena-linterna_cc-rio-ebro/
ATTACH;FMTTYPE=image/jpeg:https://pai.com.es/wp-content/uploads/PL-POST-PLANETA.jpg
END:VEVENT
END:VCALENDAR