BEGIN:VCALENDAR
VERSION:2.0
PRODID:-//PAI - ECPv6.15.11//NONSGML v1.0//EN
CALSCALE:GREGORIAN
METHOD:PUBLISH
X-WR-CALNAME:PAI
X-ORIGINAL-URL:https://pai.com.es
X-WR-CALDESC:Eventos para PAI
REFRESH-INTERVAL;VALUE=DURATION:PT1H
X-Robots-Tag:noindex
X-PUBLISHED-TTL:PT1H
BEGIN:VTIMEZONE
TZID:Europe/Madrid
BEGIN:DAYLIGHT
TZOFFSETFROM:+0100
TZOFFSETTO:+0200
TZNAME:CEST
DTSTART:20230326T010000
END:DAYLIGHT
BEGIN:STANDARD
TZOFFSETFROM:+0200
TZOFFSETTO:+0100
TZNAME:CET
DTSTART:20231029T010000
END:STANDARD
BEGIN:DAYLIGHT
TZOFFSETFROM:+0100
TZOFFSETTO:+0200
TZNAME:CEST
DTSTART:20240331T010000
END:DAYLIGHT
BEGIN:STANDARD
TZOFFSETFROM:+0200
TZOFFSETTO:+0100
TZNAME:CET
DTSTART:20241027T010000
END:STANDARD
BEGIN:DAYLIGHT
TZOFFSETFROM:+0100
TZOFFSETTO:+0200
TZNAME:CEST
DTSTART:20250330T010000
END:DAYLIGHT
BEGIN:STANDARD
TZOFFSETFROM:+0200
TZOFFSETTO:+0100
TZNAME:CET
DTSTART:20251026T010000
END:STANDARD
END:VTIMEZONE
BEGIN:VTIMEZONE
TZID:UTC
BEGIN:STANDARD
TZOFFSETFROM:+0000
TZOFFSETTO:+0000
TZNAME:UTC
DTSTART:20230101T000000
END:STANDARD
END:VTIMEZONE
BEGIN:VEVENT
DTSTART;VALUE=DATE:20240204
DTEND;VALUE=DATE:20240205
DTSTAMP:20260421T165231
CREATED:20231231T230006Z
LAST-MODIFIED:20240123T182840Z
UID:22548-1707004800-1707091199@pai.com.es
SUMMARY:Coro Cocó • CALAMOCHA\, Teruel
DESCRIPTION:
URL:https://pai.com.es/agenda-pai/coro-coco-calamocha-teruel/
CATEGORIES:Espectáculos - Sala,Pai
ATTACH;FMTTYPE=image/jpeg:https://pai.com.es/wp-content/uploads/2017/02/pai-espectaculos-sala-corococo-tb-1-e1745863821476.jpg
END:VEVENT
BEGIN:VEVENT
DTSTART;VALUE=DATE:20240204
DTEND;VALUE=DATE:20240205
DTSTAMP:20260421T165231
CREATED:20240123T182958Z
LAST-MODIFIED:20240123T182958Z
UID:22551-1707004800-1707091199@pai.com.es
SUMMARY:Fiesta Palestina • CENTRO DE HISTORIAS\, Zaragoza
DESCRIPTION:Fiesta Palestina
URL:https://pai.com.es/agenda-pai/fiesta-palestina-centro-de-historias-zaragoza/
CATEGORIES:Pai,Taller
END:VEVENT
BEGIN:VEVENT
DTSTART;VALUE=DATE:20240205
DTEND;VALUE=DATE:20240210
DTSTAMP:20260421T165231
CREATED:20231231T230010Z
LAST-MODIFIED:20240123T182023Z
UID:22542-1707091200-1707523199@pai.com.es
SUMMARY:Artilogios • PAMPLONA\, Navarra
DESCRIPTION:
URL:https://pai.com.es/agenda-pai/artilogios-pamplona-navarra-4/
CATEGORIES:Espectáculos - Sala,Pai
ATTACH;FMTTYPE=image/jpeg:https://pai.com.es/wp-content/uploads/2019/04/Artilogios_destacada.jpg
END:VEVENT
BEGIN:VEVENT
DTSTART;VALUE=DATE:20240206
DTEND;VALUE=DATE:20240207
DTSTAMP:20260421T165231
CREATED:20240123T183049Z
LAST-MODIFIED:20240123T183049Z
UID:22553-1707177600-1707263999@pai.com.es
SUMMARY:Taller de juguetes • CODEF\, Zaragoza
DESCRIPTION:
URL:https://pai.com.es/agenda-pai/taller-de-juguetes-codef-zaragoza/
CATEGORIES:Pai,Taller
END:VEVENT
BEGIN:VEVENT
DTSTART;VALUE=DATE:20240207
DTEND;VALUE=DATE:20240209
DTSTAMP:20260421T165231
CREATED:20240123T183135Z
LAST-MODIFIED:20240123T183135Z
UID:22555-1707264000-1707436799@pai.com.es
SUMMARY:Taller PAZ • TERUEL\, Teruel
DESCRIPTION:
URL:https://pai.com.es/agenda-pai/taller-paz-teruel-teruel/
CATEGORIES:Pai,Taller
END:VEVENT
BEGIN:VEVENT
DTSTART;VALUE=DATE:20240208
DTEND;VALUE=DATE:20240209
DTSTAMP:20260421T165231
CREATED:20231231T230023Z
LAST-MODIFIED:20240123T184521Z
UID:22557-1707350400-1707436799@pai.com.es
SUMMARY:Chiriví • CP VALDESPARTERA\, Zaragoza
DESCRIPTION:
URL:https://pai.com.es/agenda-pai/chirivi-cp-valdespartera-zaragoza/
CATEGORIES:Espectáculos - Calle,Pai
ATTACH;FMTTYPE=image/jpeg:https://pai.com.es/wp-content/uploads/2017/03/Chirivi-pai-foto-04.jpg
END:VEVENT
BEGIN:VEVENT
DTSTART;VALUE=DATE:20240209
DTEND;VALUE=DATE:20240210
DTSTAMP:20260421T165231
CREATED:20231231T230047Z
LAST-MODIFIED:20240123T184903Z
UID:22559-1707436800-1707523199@pai.com.es
SUMMARY:Muévete con los Campanos • CALATAYUD\, Zaragoza
DESCRIPTION:
URL:https://pai.com.es/agenda-pai/muevete-con-los-campanos-calatayud-zaragoza/
CATEGORIES:Espectáculos - Calle,Pai
ATTACH;FMTTYPE=image/jpeg:https://pai.com.es/wp-content/uploads/2017/02/pai-campanos-foto-05.jpg
END:VEVENT
BEGIN:VEVENT
DTSTART;VALUE=DATE:20240210
DTEND;VALUE=DATE:20240211
DTSTAMP:20260421T165231
CREATED:20231231T230047Z
LAST-MODIFIED:20240123T185109Z
UID:22562-1707523200-1707609599@pai.com.es
SUMMARY:Muévete con los Campanos • BARBASTRO\, Huesca
DESCRIPTION:
URL:https://pai.com.es/agenda-pai/muevete-con-los-campanos-barbastro-huesca/
CATEGORIES:Espectáculos - Calle,Pai
ATTACH;FMTTYPE=image/jpeg:https://pai.com.es/wp-content/uploads/2017/02/pai-campanos-foto-05.jpg
END:VEVENT
BEGIN:VEVENT
DTSTART;VALUE=DATE:20240214
DTEND;VALUE=DATE:20240215
DTSTAMP:20260421T165231
CREATED:20231231T230010Z
LAST-MODIFIED:20240123T182210Z
UID:22544-1707868800-1707955199@pai.com.es
SUMMARY:Artilogios • ZUERA\, Zaragoza
DESCRIPTION:
URL:https://pai.com.es/agenda-pai/artilogios-zuera-zaragoza-2/
CATEGORIES:Espectáculos - Sala,Pai
ATTACH;FMTTYPE=image/jpeg:https://pai.com.es/wp-content/uploads/2019/04/Artilogios_destacada.jpg
END:VEVENT
BEGIN:VEVENT
DTSTART;TZID=Europe/Madrid:20240217T114500
DTEND;TZID=Europe/Madrid:20240217T133000
DTSTAMP:20260421T165231
CREATED:20231231T230035Z
LAST-MODIFIED:20240123T185445Z
UID:22566-1708170300-1708176600@pai.com.es
SUMMARY:La Linterna Mágica • CC ESTACIÓN DEL NORTE\, Zaragoza
DESCRIPTION:
URL:https://pai.com.es/agenda-pai/la-linterna-magica-cc-estacion-del-norte-zaragoza-11/
CATEGORIES:La linterna mágica,Pai
ATTACH;FMTTYPE=image/jpeg:https://pai.com.es/wp-content/uploads/Visuel_23-scaled.jpg
END:VEVENT
BEGIN:VEVENT
DTSTART;TZID=Europe/Madrid:20240218T114500
DTEND;TZID=Europe/Madrid:20240218T133000
DTSTAMP:20260421T165231
CREATED:20231231T230035Z
LAST-MODIFIED:20240123T185928Z
UID:22568-1708256700-1708263000@pai.com.es
SUMMARY:La Linterna Mágica • CC T. SÁNCHEZ PUNTER\, Zaragoza
DESCRIPTION:
URL:https://pai.com.es/agenda-pai/la-linterna-magica-cc-t-sanchez-punter-zaragoza-12/
CATEGORIES:La linterna mágica,Pai
ATTACH;FMTTYPE=image/jpeg:https://pai.com.es/wp-content/uploads/Visuel_23-scaled.jpg
END:VEVENT
BEGIN:VEVENT
DTSTART;TZID=Europe/Madrid:20240218T120000
DTEND;TZID=Europe/Madrid:20240218T130000
DTSTAMP:20260421T165231
CREATED:20231231T230000Z
LAST-MODIFIED:20240123T185223Z
UID:22564-1708257600-1708261200@pai.com.es
SUMMARY:La Pequeña Linterna • CC RÍO EBRO\, Zaragoza
DESCRIPTION:
URL:https://pai.com.es/agenda-pai/la-pequena-linterna-cc-rio-ebro-zaragoza-4/
CATEGORIES:La linterna mágica,Pai
ATTACH;FMTTYPE=image/jpeg:https://pai.com.es/wp-content/uploads/2017/05/LPL.jpg
END:VEVENT
BEGIN:VEVENT
DTSTART;VALUE=DATE:20240224
DTEND;VALUE=DATE:20240225
DTSTAMP:20260421T165231
CREATED:20240121T230045Z
LAST-MODIFIED:20240123T193329Z
UID:22576-1708732800-1708819199@pai.com.es
SUMMARY:Carnaval A Saco • ALTORRICÓN\, Huesca
DESCRIPTION:
URL:https://pai.com.es/agenda-pai/carnaval-a-saco-altorricon-huesca/
CATEGORIES:Espectáculos - Calle,Pai
ATTACH;FMTTYPE=image/png:https://pai.com.es/wp-content/uploads/CARNACAL.png
END:VEVENT
END:VCALENDAR