BEGIN:VCALENDAR
VERSION:2.0
PRODID:-//PAI - ECPv6.15.11//NONSGML v1.0//EN
CALSCALE:GREGORIAN
METHOD:PUBLISH
X-ORIGINAL-URL:https://pai.com.es
X-WR-CALDESC:Eventos para PAI
REFRESH-INTERVAL;VALUE=DURATION:PT1H
X-Robots-Tag:noindex
X-PUBLISHED-TTL:PT1H
BEGIN:VTIMEZONE
TZID:Europe/Madrid
BEGIN:DAYLIGHT
TZOFFSETFROM:+0100
TZOFFSETTO:+0200
TZNAME:CEST
DTSTART:20230326T010000
END:DAYLIGHT
BEGIN:STANDARD
TZOFFSETFROM:+0200
TZOFFSETTO:+0100
TZNAME:CET
DTSTART:20231029T010000
END:STANDARD
BEGIN:DAYLIGHT
TZOFFSETFROM:+0100
TZOFFSETTO:+0200
TZNAME:CEST
DTSTART:20240331T010000
END:DAYLIGHT
BEGIN:STANDARD
TZOFFSETFROM:+0200
TZOFFSETTO:+0100
TZNAME:CET
DTSTART:20241027T010000
END:STANDARD
BEGIN:DAYLIGHT
TZOFFSETFROM:+0100
TZOFFSETTO:+0200
TZNAME:CEST
DTSTART:20250330T010000
END:DAYLIGHT
BEGIN:STANDARD
TZOFFSETFROM:+0200
TZOFFSETTO:+0100
TZNAME:CET
DTSTART:20251026T010000
END:STANDARD
END:VTIMEZONE
BEGIN:VEVENT
DTSTART;TZID=Europe/Madrid:20240805T080000
DTEND;TZID=Europe/Madrid:20240810T170000
DTSTAMP:20260421T163134
CREATED:20240822T160241Z
LAST-MODIFIED:20240822T160241Z
UID:22986-1722844800-1723309200@pai.com.es
SUMMARY:Izan Pirata (Vitoria)
DESCRIPTION:
URL:https://pai.com.es/agenda-pai/izan-pirata-vitoria/
CATEGORIES:Parques
ATTACH;FMTTYPE=image/jpeg:https://pai.com.es/wp-content/uploads/2017/04/espacios-pai-FerietaPirata-fotos-3.jpg
END:VEVENT
BEGIN:VEVENT
DTSTART;TZID=Europe/Madrid:20240809T220000
DTEND;TZID=Europe/Madrid:20240809T230000
DTSTAMP:20260421T163134
CREATED:20240822T160348Z
LAST-MODIFIED:20240822T160348Z
UID:22988-1723240800-1723244400@pai.com.es
SUMMARY:Star Mirando (Monteagudo)
DESCRIPTION:
URL:https://pai.com.es/agenda-pai/star-mirando-monteagudo/
ATTACH;FMTTYPE=image/jpeg:https://pai.com.es/wp-content/uploads/STAR_cartel.jpg
END:VEVENT
BEGIN:VEVENT
DTSTART;TZID=Europe/Madrid:20240810T080000
DTEND;TZID=Europe/Madrid:20240810T170000
DTSTAMP:20260421T163134
CREATED:20240822T155513Z
LAST-MODIFIED:20240822T155540Z
UID:22974-1723276800-1723309200@pai.com.es
SUMMARY:Lavando Voy (Villares de Huerva)
DESCRIPTION:
URL:https://pai.com.es/agenda-pai/lavando-voy-villares-de-huerva/
CATEGORIES:Espectáculos - Calle
ATTACH;FMTTYPE=image/jpeg:https://pai.com.es/wp-content/uploads/2017/02/pai-espectaculos-calle-lavando-tb-1.jpg
END:VEVENT
BEGIN:VEVENT
DTSTART;TZID=Europe/Madrid:20240811T080000
DTEND;TZID=Europe/Madrid:20240811T170000
DTSTAMP:20260421T163134
CREATED:20240822T155513Z
LAST-MODIFIED:20240822T155513Z
UID:22972-1723363200-1723395600@pai.com.es
SUMMARY:Lavando Voy (Falces)
DESCRIPTION:
URL:https://pai.com.es/agenda-pai/lavando-voy-falces/
CATEGORIES:Espectáculos - Calle
ATTACH;FMTTYPE=image/jpeg:https://pai.com.es/wp-content/uploads/2017/02/pai-espectaculos-calle-lavando-tb-1.jpg
END:VEVENT
BEGIN:VEVENT
DTSTART;TZID=Europe/Madrid:20240814T190000
DTEND;TZID=Europe/Madrid:20240814T200000
DTSTAMP:20260421T163134
CREATED:20240822T155304Z
LAST-MODIFIED:20240822T155304Z
UID:22968-1723662000-1723665600@pai.com.es
SUMMARY:Taller Bichos (Camañas)
DESCRIPTION:
URL:https://pai.com.es/agenda-pai/taller-bichos-camanas/
CATEGORIES:Taller
END:VEVENT
BEGIN:VEVENT
DTSTART;TZID=Europe/Madrid:20240814T223000
DTEND;TZID=Europe/Madrid:20240814T233000
DTSTAMP:20260421T163134
CREATED:20240822T155304Z
LAST-MODIFIED:20240822T155405Z
UID:22970-1723674600-1723678200@pai.com.es
SUMMARY:Star Mirando (Camañas)
DESCRIPTION:
URL:https://pai.com.es/agenda-pai/star-mirando-camanas/
CATEGORIES:Espectáculos - Sala,Taller
ATTACH;FMTTYPE=image/jpeg:https://pai.com.es/wp-content/uploads/star-trailsMolino-1-scaled.jpg
END:VEVENT
BEGIN:VEVENT
DTSTART;TZID=Europe/Madrid:20240815T180000
DTEND;TZID=Europe/Madrid:20240815T203000
DTSTAMP:20260421T163134
CREATED:20240822T155129Z
LAST-MODIFIED:20240822T155129Z
UID:22966-1723744800-1723753800@pai.com.es
SUMMARY:Ferieta Pedrola
DESCRIPTION:
URL:https://pai.com.es/agenda-pai/ferieta-pedrola/
ATTACH;FMTTYPE=image/jpeg:https://pai.com.es/wp-content/uploads/2017/04/espacios-pai-FerietaPirata-fotos-6.jpg
END:VEVENT
BEGIN:VEVENT
DTSTART;TZID=Europe/Madrid:20240816T180000
DTEND;TZID=Europe/Madrid:20240816T180000
DTSTAMP:20260421T163134
CREATED:20240822T154330Z
LAST-MODIFIED:20240822T154330Z
UID:22961-1723831200-1723831200@pai.com.es
SUMMARY:El Puntazo (Monroyo)
DESCRIPTION:
URL:https://pai.com.es/agenda-pai/el-puntazo-monroyo/
CATEGORIES:Espectáculos - Sala
ATTACH;FMTTYPE=image/jpeg:https://pai.com.es/wp-content/uploads/Cartel-EL-PUNTAZO-1.jpg
END:VEVENT
BEGIN:VEVENT
DTSTART;TZID=Europe/Madrid:20240816T183000
DTEND;TZID=Europe/Madrid:20240816T193000
DTSTAMP:20260421T163134
CREATED:20240822T154444Z
LAST-MODIFIED:20240822T155009Z
UID:22963-1723833000-1723836600@pai.com.es
SUMMARY:324 Juegos (Pozuel de Ariza)
DESCRIPTION:
URL:https://pai.com.es/agenda-pai/324-juegos-pozuel-de-ariza/
ATTACH;FMTTYPE=image/jpeg:https://pai.com.es/wp-content/uploads/2018/07/Bolos-Verano2018-324-juegos.jpg
END:VEVENT
BEGIN:VEVENT
DTSTART;TZID=Europe/Madrid:20240817T173000
DTEND;TZID=Europe/Madrid:20240817T193000
DTSTAMP:20260421T163134
CREATED:20240822T153740Z
LAST-MODIFIED:20240822T153740Z
UID:22954-1723915800-1723923000@pai.com.es
SUMMARY:Ferieta Pirata (Tafalla)
DESCRIPTION:
URL:https://pai.com.es/agenda-pai/ferieta-pirata-tafalla/
ATTACH;FMTTYPE=image/png:https://pai.com.es/wp-content/uploads/FERIETA.png
END:VEVENT
BEGIN:VEVENT
DTSTART;TZID=Europe/Madrid:20240817T193000
DTEND;TZID=Europe/Madrid:20240817T203000
DTSTAMP:20260421T163134
CREATED:20240822T153740Z
LAST-MODIFIED:20240822T154205Z
UID:22958-1723923000-1723926600@pai.com.es
SUMMARY:Cuentos Colorados (Robres)
DESCRIPTION:
URL:https://pai.com.es/agenda-pai/cuentos-colorados-robres/
ATTACH;FMTTYPE=image/jpeg:https://pai.com.es/wp-content/uploads/2017/03/cuentoscolorados-pai-cartel.jpg
END:VEVENT
BEGIN:VEVENT
DTSTART;TZID=Europe/Madrid:20240817T193000
DTEND;TZID=Europe/Madrid:20240817T203000
DTSTAMP:20260421T163134
CREATED:20240822T153740Z
LAST-MODIFIED:20240822T153930Z
UID:22956-1723923000-1723926600@pai.com.es
SUMMARY:El Puntazo (Escatrón)
DESCRIPTION:
URL:https://pai.com.es/agenda-pai/el-puntazo-escatron/
ATTACH;FMTTYPE=image/jpeg:https://pai.com.es/wp-content/uploads/Cartel-EL-PUNTAZO-1.jpg
END:VEVENT
BEGIN:VEVENT
DTSTART;TZID=Europe/Madrid:20240819T113000
DTEND;TZID=Europe/Madrid:20240819T123000
DTSTAMP:20260421T163134
CREATED:20240822T153616Z
LAST-MODIFIED:20240822T153616Z
UID:22952-1724067000-1724070600@pai.com.es
SUMMARY:324 Juegos (Guijuelo)
DESCRIPTION:
URL:https://pai.com.es/agenda-pai/324-juegos-guijuelo/
ATTACH;FMTTYPE=image/jpeg:https://pai.com.es/wp-content/uploads/2017/02/324juegos-pai-barco.jpg
END:VEVENT
BEGIN:VEVENT
DTSTART;TZID=Europe/Madrid:20240820T180000
DTEND;TZID=Europe/Madrid:20240820T190000
DTSTAMP:20260421T163134
CREATED:20240822T153455Z
LAST-MODIFIED:20240822T153455Z
UID:22950-1724176800-1724180400@pai.com.es
SUMMARY:Coro Cocó (Laspuña)
DESCRIPTION:
URL:https://pai.com.es/agenda-pai/coro-coco-laspuna/
CATEGORIES:Espectáculos - Sala
ATTACH;FMTTYPE=image/jpeg:https://pai.com.es/wp-content/uploads/2017/02/corococo-pai-foto-04.jpg
END:VEVENT
BEGIN:VEVENT
DTSTART;TZID=Europe/Madrid:20240824T110000
DTEND;TZID=Europe/Madrid:20240824T123000
DTSTAMP:20260421T163134
CREATED:20240822T140602Z
LAST-MODIFIED:20240822T140602Z
UID:22859-1724497200-1724502600@pai.com.es
SUMMARY:Coro Cocó_Vistabella
DESCRIPTION:
URL:https://pai.com.es/agenda-pai/coro-coco_vistabella/
CATEGORIES:Espectáculos - Calle
ATTACH;FMTTYPE=image/jpeg:https://pai.com.es/wp-content/uploads/2018/05/slide_coro-coco.jpg
END:VEVENT
BEGIN:VEVENT
DTSTART;TZID=Europe/Madrid:20240824T190000
DTEND;TZID=Europe/Madrid:20240824T200000
DTSTAMP:20260421T163134
CREATED:20240822T140800Z
LAST-MODIFIED:20240822T140800Z
UID:22857-1724526000-1724529600@pai.com.es
SUMMARY:Lavando Voy (Cofita)
DESCRIPTION:
URL:https://pai.com.es/agenda-pai/lavando-voy-cofita/
CATEGORIES:Espectáculos - Sala
ATTACH;FMTTYPE=image/jpeg:https://pai.com.es/wp-content/uploads/2017/03/lavandovoy-pai-cartel.jpg
END:VEVENT
BEGIN:VEVENT
DTSTART;TZID=Europe/Madrid:20240825T190000
DTEND;TZID=Europe/Madrid:20240825T200000
DTSTAMP:20260421T163134
CREATED:20240822T141329Z
LAST-MODIFIED:20240822T141329Z
UID:22867-1724612400-1724616000@pai.com.es
SUMMARY:Lavando Voy (Noain)
DESCRIPTION:
URL:https://pai.com.es/agenda-pai/lavando-voy-noain/
CATEGORIES:Espectáculos - Calle
ATTACH;FMTTYPE=image/jpeg:https://pai.com.es/wp-content/uploads/2017/03/lavandovoy-pai-cartel.jpg
END:VEVENT
BEGIN:VEVENT
DTSTART;TZID=Europe/Madrid:20240825T190000
DTEND;TZID=Europe/Madrid:20240825T200000
DTSTAMP:20260421T163134
CREATED:20240822T141329Z
LAST-MODIFIED:20240822T141546Z
UID:22870-1724612400-1724616000@pai.com.es
SUMMARY:Campanos (Ores)
DESCRIPTION:
URL:https://pai.com.es/agenda-pai/campanos-ores/
CATEGORIES:Espectáculos - Calle
ATTACH;FMTTYPE=image/jpeg:https://pai.com.es/wp-content/uploads/PAI_LosCampanos_SanValero2023_FotosMaiIbarguen_8-scaled-e1745866661254.jpg
END:VEVENT
BEGIN:VEVENT
DTSTART;TZID=Europe/Madrid:20240826T110000
DTEND;TZID=Europe/Madrid:20240826T120000
DTSTAMP:20260421T163134
CREATED:20240822T142332Z
LAST-MODIFIED:20240822T142332Z
UID:22877-1724670000-1724673600@pai.com.es
SUMMARY:324 Juegos (Figueruelas)
DESCRIPTION:
URL:https://pai.com.es/agenda-pai/324-juegos-figueruelas-2/
CATEGORIES:Espectáculos - Calle
ATTACH;FMTTYPE=image/jpeg:https://pai.com.es/wp-content/uploads/2017/02/Torre-pirata-editada.jpg
END:VEVENT
BEGIN:VEVENT
DTSTART;VALUE=DATE:20240831
DTEND;VALUE=DATE:20240901
DTSTAMP:20260421T163134
CREATED:20240822T142116Z
LAST-MODIFIED:20240822T142220Z
UID:22874-1725062400-1725148799@pai.com.es
SUMMARY:Ferieta de juegos (Luco de Jiloca)
DESCRIPTION:
URL:https://pai.com.es/agenda-pai/feriela-de-juegos-luco-de-jiloca/
CATEGORIES:Parques
ATTACH;FMTTYPE=image/jpeg:https://pai.com.es/wp-content/uploads/2017/04/espacios-pai-FerietaPirata-fotos-4.jpg
END:VEVENT
BEGIN:VEVENT
DTSTART;TZID=Europe/Madrid:20240831T183000
DTEND;TZID=Europe/Madrid:20240831T193000
DTSTAMP:20260421T163134
CREATED:20240822T142608Z
LAST-MODIFIED:20240829T111158Z
UID:22879-1725129000-1725132600@pai.com.es
SUMMARY:Múevete con los Campanos (Ejea de los Caballeros)
DESCRIPTION:
URL:https://pai.com.es/agenda-pai/zampanos-ejea-de-los-caballeros/
LOCATION:Parque Central\, Ejea\, Parque Central\, Ejea de los caballeros\, Zaragoza
CATEGORIES:Espectáculos - Calle
ATTACH;FMTTYPE=image/jpeg:https://pai.com.es/wp-content/uploads/PAI_LosCampanos_SanValero2023_FotosMaiIbarguen_64-scaled.jpg
END:VEVENT
END:VCALENDAR